BEGIN:VCALENDAR
VERSION:2.0
PRODID:-//International Furnishings and Design Association - ECPv5.1.0//NONSGML v1.0//EN
CALSCALE:GREGORIAN
METHOD:PUBLISH
X-WR-CALNAME:International Furnishings and Design Association
X-ORIGINAL-URL:https://ifda.com
X-WR-CALDESC:Events for International Furnishings and Design Association
BEGIN:VTIMEZONE
TZID:America/Halifax
BEGIN:DAYLIGHT
TZOFFSETFROM:-0400
TZOFFSETTO:-0300
TZNAME:ADT
DTSTART:20210314T060000
END:DAYLIGHT
BEGIN:STANDARD
TZOFFSETFROM:-0300
TZOFFSETTO:-0400
TZNAME:AST
DTSTART:20211107T050000
END:STANDARD
END:VTIMEZONE
BEGIN:VEVENT
DTSTART;TZID=America/Halifax:20211016T110000
DTEND;TZID=America/Halifax:20211016T120000
DTSTAMP:20260419T191913
CREATED:20210921T183615Z
LAST-MODIFIED:20210922T143833Z
UID:12054-1634382000-1634385600@ifda.com
SUMMARY:3 Distinct Views - One Eco-Focused Goal
DESCRIPTION:Join Laurence Carr\, IFDA\, Nancy Fire\, IFDA\, and Jennifer Levy as they discuss their sustainable lifestyle perspectives\, tips for shopping sustainably\, and favorite High Point Market sustainable sources. They’ll also share their unique visions for the curated room design exhibits created for the Sustainability Stories program. Moderated by sustainability expert Rachel Bradley of Unifi\, makers of REPREVE recycled fibers. Immediately following\, meet and greet with the designers and other attendees in the designers’ Center Stage exhibits. \nSpeakers: Nancy Fire\, IFDA Laurence Carr\, IFDA\, Jennifer Levy\, Rachel Bradley \nNancy Fire\, IFDA \nLaurence Carr\, IFDA \n
URL:https://ifda.com/event/3-distinct-views-one-eco-focused-goal/
LOCATION:Center Stage at High Point Market between Transportation Terminal and Showplace\, High Point\, NC
END:VEVENT
END:VCALENDAR