BEGIN:VCALENDAR
VERSION:2.0
PRODID:-//International Furnishings and Design Association - ECPv5.1.0//NONSGML v1.0//EN
CALSCALE:GREGORIAN
METHOD:PUBLISH
X-WR-CALNAME:International Furnishings and Design Association
X-ORIGINAL-URL:https://ifda.com
X-WR-CALDESC:Events for International Furnishings and Design Association
BEGIN:VTIMEZONE
TZID:America/Halifax
BEGIN:DAYLIGHT
TZOFFSETFROM:-0400
TZOFFSETTO:-0300
TZNAME:ADT
DTSTART:20190310T060000
END:DAYLIGHT
BEGIN:STANDARD
TZOFFSETFROM:-0300
TZOFFSETTO:-0400
TZNAME:AST
DTSTART:20191103T050000
END:STANDARD
END:VTIMEZONE
BEGIN:VEVENT
DTSTART;TZID=America/Halifax:20190918T130000
DTEND;TZID=America/Halifax:20190918T150000
DTSTAMP:20260422T115754
CREATED:20190906T002328Z
LAST-MODIFIED:20190906T002425Z
UID:8815-1568811600-1568818800@ifda.com
SUMMARY:IFDANY LUNCH CLUB
DESCRIPTION:\n\n\n\n\n\n\nIFDA LUNCH CLUB\n\n\n\n\n\n\n3rd Wednesday of every month  1:00 pm – 3:00 pm\n\nNYDC at 200 Lexington Ave- Conference Room 16th Floor\n\nBYOB lunch or purchase at the Butterfield Cafe\nWednesday Sept. 18th\n\nSummer’s Over\,\nlets get Back to Business!\nJoin us for our monthly lunch club\nRound table discussion on\n\nInterior Design business practices\, systems & pricing. \nBring your own lunch and come join the discussion.\nDon’t forget your business cards to network!\n\n\nPlease join other IFDA members for round table discussions on a variety of industry related topics including: \nClient Management\nContracts\, Insurance\, Legal issues\nPR and Promotion\nRunning Your Business- software\, apps\, systems\, invoicing\, digital tools\nHiring and Working With Employees\nUsing Social Media and BloggingTo Make More Sales\nPricing for Interior Designers\nOnline Stores vs. Brick and Mortar\nDeveloping and Selling Products\nBranding and Finding your Niche Market\nWhat You Should Know About Materials\n\n\n\n\n\nClick Here to RSVP \n( please have your guests register individually)\n\n\n\n\n\n\n\n\n\n\n\n\n\n\n\n\n\n\n
URL:https://ifda.com/event/8815/
LOCATION:NYDC\, 200 Lexington Ave\, NY\, NY\, 10016\, United States
END:VEVENT
END:VCALENDAR