BEGIN:VCALENDAR
VERSION:2.0
PRODID:-//International Furnishings and Design Association - ECPv5.1.0//NONSGML v1.0//EN
CALSCALE:GREGORIAN
METHOD:PUBLISH
X-WR-CALNAME:International Furnishings and Design Association
X-ORIGINAL-URL:https://ifda.com
X-WR-CALDESC:Events for International Furnishings and Design Association
BEGIN:VTIMEZONE
TZID:America/Halifax
BEGIN:DAYLIGHT
TZOFFSETFROM:-0400
TZOFFSETTO:-0300
TZNAME:ADT
DTSTART:20190310T060000
END:DAYLIGHT
BEGIN:STANDARD
TZOFFSETFROM:-0300
TZOFFSETTO:-0400
TZNAME:AST
DTSTART:20191103T050000
END:STANDARD
END:VTIMEZONE
BEGIN:VEVENT
DTSTART;TZID=America/Halifax:20191018T063000
DTEND;TZID=America/Halifax:20191018T203000
DTSTAMP:20260423T002806
CREATED:20190922T070801Z
LAST-MODIFIED:20190922T070935Z
UID:8876-1571380200-1571430600@ifda.com
SUMMARY:Board Meeting
DESCRIPTION:谷口工務店の谷口社長のセミナーの件：　２０１９年１１月１日 \nジャパンフェアの件 \n  \n
URL:https://ifda.com/event/board-meeting-2/
LOCATION:Hikosen Style shop
END:VEVENT
END:VCALENDAR