BEGIN:VCALENDAR
VERSION:2.0
PRODID:-//International Furnishings and Design Association - ECPv5.1.0//NONSGML v1.0//EN
CALSCALE:GREGORIAN
METHOD:PUBLISH
X-WR-CALNAME:International Furnishings and Design Association
X-ORIGINAL-URL:https://ifda.com
X-WR-CALDESC:Events for International Furnishings and Design Association
BEGIN:VTIMEZONE
TZID:America/Halifax
BEGIN:DAYLIGHT
TZOFFSETFROM:-0400
TZOFFSETTO:-0300
TZNAME:ADT
DTSTART:20210314T060000
END:DAYLIGHT
BEGIN:STANDARD
TZOFFSETFROM:-0300
TZOFFSETTO:-0400
TZNAME:AST
DTSTART:20211107T050000
END:STANDARD
END:VTIMEZONE
BEGIN:VEVENT
DTSTART;TZID=America/Halifax:20211016T120000
DTEND;TZID=America/Halifax:20211016T130000
DTSTAMP:20260419T223133
CREATED:20210921T190152Z
LAST-MODIFIED:20210922T143904Z
UID:12056-1634385600-1634389200@ifda.com
SUMMARY:Designer Meet & Greet - Sustainability Stories at Center Stage
DESCRIPTION:Come celebrate and experience the spaces designed by Laurence Carr\, IFDA\, Nancy Fire\, IFDA\, and Jennifer Levy as part of the Sustainability Stories program. Sourcing from High Point Market exhibitors\, these curated vignettes elegantly incorporate sustainable elements\, capturing the variety of creative ways an eco-friendly focus can be incorporated into home design. \nNancy Fire\, IFDA \nLaurence Carr \n
URL:https://ifda.com/event/designer-meet-greet-sustainability-stories-at-center-stage/
LOCATION:Center Stage at High Point Market between Transportation Terminal and Showplace\, High Point\, NC
END:VEVENT
END:VCALENDAR