BEGIN:VCALENDAR
VERSION:2.0
PRODID:-//International Furnishings and Design Association - ECPv5.1.0//NONSGML v1.0//EN
CALSCALE:GREGORIAN
METHOD:PUBLISH
X-WR-CALNAME:International Furnishings and Design Association
X-ORIGINAL-URL:https://ifda.com
X-WR-CALDESC:Events for International Furnishings and Design Association
BEGIN:VTIMEZONE
TZID:America/Halifax
BEGIN:DAYLIGHT
TZOFFSETFROM:-0400
TZOFFSETTO:-0300
TZNAME:ADT
DTSTART:20200308T060000
END:DAYLIGHT
BEGIN:STANDARD
TZOFFSETFROM:-0300
TZOFFSETTO:-0400
TZNAME:AST
DTSTART:20201101T050000
END:STANDARD
END:VTIMEZONE
BEGIN:VEVENT
DTSTART;TZID=America/Halifax:20200305T113000
DTEND;TZID=America/Halifax:20200305T130000
DTSTAMP:20260424T094900
CREATED:20200206T193621Z
LAST-MODIFIED:20200206T193621Z
UID:9227-1583407800-1583413200@ifda.com
SUMMARY:Educational Event @ McCormick Paints
DESCRIPTION:\nJoin us for our February Education event @ McCormick Paints\n\nLEARN HOW TO SELL MORE WITH COLOR!\nColor as a Solution\, how colors solve problems in different residential and commercial settings like home\, hospitals\, schools\, and other types of living and business spaces. We will explore color psychology\, how to evoke certain moods using color\, and how to use color to sell. \n\nIn addition to an open forum with representatives from McCormick Paints manufacturing company\, there will be a Q & A with Paul Lamborn of Tech Painting Company. If you know what you’d like to ask Paul\, please feel free to send in your questions (email Jillian at jdimarco@mccormickpaints.com) ahead of time. If you don’t know\, that’s okay. We will open it up to the floor.\nLight lunch will be provided with sparkling water.\nThere will also be complimentary color tools\, surprise gifts\, and special deals!\n\n\nThis event is open to all IFDA members and first time guests.\n\nIFDA Member are Free.\n\nNon-IFDA Members will be charged $25\n\nIf you would like to join Richmond IFDA\, click here!\n\n\n  \nWe hope to see you there! Please RSVP below.\n
URL:https://ifda.com/event/educational-event-mccormick-paints/
LOCATION:McCormick Paints\, 7586 West Broad Street\, Richmond\, VA\, 23294\, United States
END:VEVENT
END:VCALENDAR