BEGIN:VCALENDAR
VERSION:2.0
PRODID:-//International Furnishings and Design Association - ECPv5.1.0//NONSGML v1.0//EN
CALSCALE:GREGORIAN
METHOD:PUBLISH
X-WR-CALNAME:International Furnishings and Design Association
X-ORIGINAL-URL:https://ifda.com
X-WR-CALDESC:Events for International Furnishings and Design Association
BEGIN:VTIMEZONE
TZID:America/Halifax
BEGIN:DAYLIGHT
TZOFFSETFROM:-0400
TZOFFSETTO:-0300
TZNAME:ADT
DTSTART:20210314T060000
END:DAYLIGHT
BEGIN:STANDARD
TZOFFSETFROM:-0300
TZOFFSETTO:-0400
TZNAME:AST
DTSTART:20211107T050000
END:STANDARD
END:VTIMEZONE
BEGIN:VEVENT
DTSTART;VALUE=DATE:20210311
DTEND;VALUE=DATE:20210327
DTSTAMP:20260424T133718
CREATED:20210122T182549Z
LAST-MODIFIED:20210122T182908Z
UID:10994-1615420800-1616803199@ifda.com
SUMMARY:Help IFDA NY to Support the Bailey House
DESCRIPTION:Gala & Auction 2001 – A Virtual Experience\nFounded in 1983\, Bailey House was the first organization in the country to create innovative supportive housing and healthcare coordination models for people with HIV/AIDS experiencing homelessness.  Today it offers nearly 700 units of housing formerly homeless and low-income men\, women\, families\, veterans and LGBTQ  youth affected by HIV/AIDS and other chronic illnesses\, with an additional 250 units of congregate housing in development. In January 2019\, Bailey House officially merged with Housing Works\, with the combined organization becoming one of New York’s largest housing\, health\, and human services providers. \nWe believe that housing and healthcare are human rights and work towards a world without poverty\, homelessness\, hunger\, HIV/AIDS\, or other chronic illnesses. \nHow can you help?  Join the IFDA Community for the Annual Gala & Auction! \nThis is the centerpiece of fundraising activities directly benefiting Bailey House’s expanded housing programs. Historically\, it convened over 600 individuals from the corporate\, media\, design\, art and fashion communities. \nFrom March 11-26th\, 2021\, Bailey House will present its 33rd Annual Gala & Auction\, re-imagined in response to the current times. This virtual experience will be a multi-day\, multi-channel event with a focus largely on art complemented by luxury personal and home goods and lifestyle experiences. \nGala guests will enjoy an exclusive VIP Virtual experience featuring special guest appearances\, curated gift baskets\, an Online Auction powered by Artsy and a memorable Awards Show Presentation packed with many surprises! \nFor tickets\, visit:  http://bit.ly/BHGA2021 \n  \n  \n
URL:https://ifda.com/event/help-ifda-ny-to-support-the-bailey-house/
LOCATION:Multi-Channel Virtual Event
END:VEVENT
END:VCALENDAR