BEGIN:VCALENDAR
VERSION:2.0
PRODID:-//International Furnishings and Design Association - ECPv5.1.0//NONSGML v1.0//EN
CALSCALE:GREGORIAN
METHOD:PUBLISH
X-WR-CALNAME:International Furnishings and Design Association
X-ORIGINAL-URL:https://ifda.com
X-WR-CALDESC:Events for International Furnishings and Design Association
BEGIN:VTIMEZONE
TZID:America/Phoenix
BEGIN:STANDARD
TZOFFSETFROM:-0700
TZOFFSETTO:-0700
TZNAME:MST
DTSTART:20210101T000000
END:STANDARD
END:VTIMEZONE
BEGIN:VEVENT
DTSTART;TZID=America/Phoenix:20211203T180000
DTEND;TZID=America/Phoenix:20211203T210000
DTSTAMP:20260423T050905
CREATED:20211122T203622Z
LAST-MODIFIED:20211122T204600Z
UID:12305-1638554400-1638565200@ifda.com
SUMMARY:IFDA ARIZONA 2021 70's Theme Holiday Party
DESCRIPTION: \n  \nREGISTER HERE! \n
URL:https://ifda.com/event/ifda-arizona-2021-70s-theme-holiday-party/
LOCATION:Private Residence\, Phoenix\, AZ\, 85044
END:VEVENT
END:VCALENDAR