BEGIN:VCALENDAR
VERSION:2.0
PRODID:-//International Furnishings and Design Association - ECPv5.1.0//NONSGML v1.0//EN
CALSCALE:GREGORIAN
METHOD:PUBLISH
X-WR-CALNAME:International Furnishings and Design Association
X-ORIGINAL-URL:https://ifda.com
X-WR-CALDESC:Events for International Furnishings and Design Association
BEGIN:VTIMEZONE
TZID:America/Phoenix
BEGIN:STANDARD
TZOFFSETFROM:-0700
TZOFFSETTO:-0700
TZNAME:MST
DTSTART:20230101T000000
END:STANDARD
END:VTIMEZONE
BEGIN:VEVENT
DTSTART;TZID=America/Phoenix:20230112T163000
DTEND;TZID=America/Phoenix:20230112T193000
DTSTAMP:20260422T123234
CREATED:20230109T154544Z
LAST-MODIFIED:20230109T154544Z
UID:13576-1673541000-1673551800@ifda.com
SUMMARY:IFDA Arizona Presents Wine & Design
DESCRIPTION: \n
URL:https://ifda.com/event/ifda-arizona-presents-wine-design/
LOCATION:Monterrey Tile Company\, 225 W. Baseline Road\, Gilbert\, Arizona\, 85233\, United States
END:VEVENT
END:VCALENDAR