BEGIN:VCALENDAR
VERSION:2.0
PRODID:-//International Furnishings and Design Association - ECPv5.1.0//NONSGML v1.0//EN
CALSCALE:GREGORIAN
METHOD:PUBLISH
X-WR-CALNAME:International Furnishings and Design Association
X-ORIGINAL-URL:https://ifda.com
X-WR-CALDESC:Events for International Furnishings and Design Association
BEGIN:VTIMEZONE
TZID:America/New_York
BEGIN:DAYLIGHT
TZOFFSETFROM:-0500
TZOFFSETTO:-0400
TZNAME:EDT
DTSTART:20190310T070000
END:DAYLIGHT
BEGIN:STANDARD
TZOFFSETFROM:-0400
TZOFFSETTO:-0500
TZNAME:EST
DTSTART:20191103T060000
END:STANDARD
END:VTIMEZONE
BEGIN:VEVENT
DTSTART;TZID=America/New_York:20190912T120000
DTEND;TZID=America/New_York:20190912T200000
DTSTAMP:20260422T103905
CREATED:20190905T233258Z
LAST-MODIFIED:20190905T234052Z
UID:8799-1568289600-1568318400@ifda.com
SUMMARY:IFDA at wnwn19 What's New What's Next
DESCRIPTION:The New York Design Center\, an IFDA Gold Sponsor\,\n is having their annual\n\nWHAT’S NEW WHAT’S NEXT Event\n\n\non Sept 12th from 12 Noon to 8 PM\n \n IFDA needs your help to get the word out about IFDA!\nThis is a great opportunity to make the most out of your membership.\n\nWe need help greeting attendees at the table outside the IFDA office\nand also taking over the IFDA Instagram\,\nPhotographing Attendees in front of the step and repeat.\n\n( Don’t worry it’s fun and we will teach you how to\ninstagram if you don’t know how!)\n
URL:https://ifda.com/event/ifda-at-whats-new-whats-next/
LOCATION:NYDC\, 200 Lexington Ave\, NY\, NY\, 10016\, United States
END:VEVENT
END:VCALENDAR