BEGIN:VCALENDAR
VERSION:2.0
PRODID:-//International Furnishings and Design Association - ECPv5.1.0//NONSGML v1.0//EN
CALSCALE:GREGORIAN
METHOD:PUBLISH
X-WR-CALNAME:International Furnishings and Design Association
X-ORIGINAL-URL:https://ifda.com
X-WR-CALDESC:Events for International Furnishings and Design Association
BEGIN:VTIMEZONE
TZID:America/Phoenix
BEGIN:STANDARD
TZOFFSETFROM:-0700
TZOFFSETTO:-0700
TZNAME:MST
DTSTART:20220101T000000
END:STANDARD
END:VTIMEZONE
BEGIN:VEVENT
DTSTART;TZID=America/Phoenix:20221119T140000
DTEND;TZID=America/Phoenix:20221119T160000
DTSTAMP:20260422T203049
CREATED:20221110T173043Z
LAST-MODIFIED:20221110T173043Z
UID:13391-1668866400-1668873600@ifda.com
SUMMARY:IFDA AZ Invites You To Join Them At The Japanese Friendship Garden
DESCRIPTION:  \nThe Holidays are coming fast; so join them for a relaxing afternoon strolling through the garden. Bring a friend or come alone.  Relax\, Breathe and get ready for what’s coming.\n \n
URL:https://ifda.com/event/ifda-az-invites-you-to-join-them-at-the-japanese-friendship-garden/
LOCATION:Phoenix Japanese Friendship Garden\, 1125 N. 3rd Ave\, Phoenix\, Arizona\, 85003
END:VEVENT
END:VCALENDAR