BEGIN:VCALENDAR
VERSION:2.0
PRODID:-//International Furnishings and Design Association - ECPv5.1.0//NONSGML v1.0//EN
CALSCALE:GREGORIAN
METHOD:PUBLISH
X-WR-CALNAME:International Furnishings and Design Association
X-ORIGINAL-URL:https://ifda.com
X-WR-CALDESC:Events for International Furnishings and Design Association
BEGIN:VTIMEZONE
TZID:America/Phoenix
BEGIN:STANDARD
TZOFFSETFROM:-0700
TZOFFSETTO:-0700
TZNAME:MST
DTSTART:20230101T000000
END:STANDARD
END:VTIMEZONE
BEGIN:VEVENT
DTSTART;TZID=America/Phoenix:20230128T180000
DTEND;TZID=America/Phoenix:20230128T190000
DTSTAMP:20260420T055728
CREATED:20230106T180843Z
LAST-MODIFIED:20230106T181229Z
UID:13567-1674928800-1674932400@ifda.com
SUMMARY:IFDA AZ presents SALSA Lessons SALSA
DESCRIPTION: \n
URL:https://ifda.com/event/ifda-az-presents-salsa-lessons-salsa/
LOCATION:Copoeira Brasil Dance Studio\, 4113 N 7th Avenue\, Phoenix\, AZ\, 85013\, United States
END:VEVENT
END:VCALENDAR