BEGIN:VCALENDAR
VERSION:2.0
PRODID:-//International Furnishings and Design Association - ECPv5.1.0//NONSGML v1.0//EN
CALSCALE:GREGORIAN
METHOD:PUBLISH
X-WR-CALNAME:International Furnishings and Design Association
X-ORIGINAL-URL:https://ifda.com
X-WR-CALDESC:Events for International Furnishings and Design Association
BEGIN:VTIMEZONE
TZID:America/New_York
BEGIN:DAYLIGHT
TZOFFSETFROM:-0500
TZOFFSETTO:-0400
TZNAME:EDT
DTSTART:20190310T070000
END:DAYLIGHT
BEGIN:STANDARD
TZOFFSETFROM:-0400
TZOFFSETTO:-0500
TZNAME:EST
DTSTART:20191103T060000
END:STANDARD
END:VTIMEZONE
BEGIN:VEVENT
DTSTART;VALUE=DATE:20190807
DTEND;VALUE=DATE:20190808
DTSTAMP:20260421T200610
CREATED:20190717T175134Z
LAST-MODIFIED:20190717T195454Z
UID:8520-1565136000-1565222399@ifda.com
SUMMARY:IFDA Carolinas Habitat for Humanity Global Village
DESCRIPTION:Presented by Dr. Jane L. Nichols\, Chair of the Department of Home Furnishings & Design at High Point University\, this talk will begin with an introduction to Co-housing and its emerging position as a community-based housing archetype across North America. The Habitat for Humanity Global Village Build program will then be presented with highlights of her fall 2018 build in Bangalore\, India. The program will close with information on an open invitation to join a 2020 build in Vietnam/Cambodia. The presentation will be followed by a dinner at a location TBD. \n  \nSAVE THE DATE – Details to follow soon \n
URL:https://ifda.com/event/ifda-carolinas-habitat-for-humanity-global-village/
END:VEVENT
END:VCALENDAR