BEGIN:VCALENDAR
VERSION:2.0
PRODID:-//International Furnishings and Design Association - ECPv5.1.0//NONSGML v1.0//EN
CALSCALE:GREGORIAN
METHOD:PUBLISH
X-WR-CALNAME:International Furnishings and Design Association
X-ORIGINAL-URL:https://ifda.com
X-WR-CALDESC:Events for International Furnishings and Design Association
BEGIN:VTIMEZONE
TZID:America/New_York
BEGIN:DAYLIGHT
TZOFFSETFROM:-0500
TZOFFSETTO:-0400
TZNAME:EDT
DTSTART:20230312T070000
END:DAYLIGHT
BEGIN:STANDARD
TZOFFSETFROM:-0400
TZOFFSETTO:-0500
TZNAME:EST
DTSTART:20231105T060000
END:STANDARD
END:VTIMEZONE
BEGIN:VEVENT
DTSTART;TZID=America/New_York:20230426T173000
DTEND;TZID=America/New_York:20230426T200000
DTSTAMP:20260422T084345
CREATED:20230414T001929Z
LAST-MODIFIED:20230414T002413Z
UID:13973-1682530200-1682539200@ifda.com
SUMMARY:IFDA NY- and DLFNY Present lighting matters!
DESCRIPTION:Wednesday\, April 26    5:30-8::00 pm\nAKDO New York\n22 West 21st\, NYC 10010\n  \n \nClick  here to RSVP\n  \nWednesday\, April 26    5:30-8::00 pm\nAKDO New York\n22 West 21st\, NYC 10010\n
URL:https://ifda.com/event/ifda-ny-and-dlfny-present-lighting-matters/
END:VEVENT
END:VCALENDAR