BEGIN:VCALENDAR
VERSION:2.0
PRODID:-//International Furnishings and Design Association - ECPv5.1.0//NONSGML v1.0//EN
CALSCALE:GREGORIAN
METHOD:PUBLISH
X-WR-CALNAME:International Furnishings and Design Association
X-ORIGINAL-URL:https://ifda.com
X-WR-CALDESC:Events for International Furnishings and Design Association
BEGIN:VTIMEZONE
TZID:America/New_York
BEGIN:DAYLIGHT
TZOFFSETFROM:-0500
TZOFFSETTO:-0400
TZNAME:EDT
DTSTART:20210314T070000
END:DAYLIGHT
BEGIN:STANDARD
TZOFFSETFROM:-0400
TZOFFSETTO:-0500
TZNAME:EST
DTSTART:20211107T060000
END:STANDARD
END:VTIMEZONE
BEGIN:VEVENT
DTSTART;TZID=America/New_York:20210602T143000
DTEND;TZID=America/New_York:20210602T153000
DTSTAMP:20260422T130729
CREATED:20210530T204016Z
LAST-MODIFIED:20210530T204016Z
UID:11632-1622644200-1622647800@ifda.com
SUMMARY:IFDA NY and International- Design in the Wild\, Wild West
DESCRIPTION:  \n \n  \n\n\n\nJoin the IFDA for a discussion about all great things in design from the midwest and beyond with\nCharles\, Randall\, Judith and Rich.\n\n\n\nWednesday June 2nd\, 2021\n\n\n\n\n\n\n\n\n\n\n\n2:30 pm EST\nClick Here for the Link to Join\n\n Our Panel:\n\nCharles Pavarini III\nPavarini Design | Founder\, President\n\n\nPavarini’s years of experience\, former career in theater\, and extraordinary creativity have made him a trend-setting Interior Designer\, fluent in many design styles. Recognized by the design community for both Residential and Commercial Architectural Interior Design\, his work is consistently highlighted with intricate lighting design elements and brilliant technological innovation. His design sensibility typically incorporates an International Style based in Classicism and a theatrical component in less-than typical ways. Lighting is a focus within his work and he has served on the board of directors of the Designers Lighting Forum of New York for most of his career. His firm\, Pavarini Design\, Recipient of 34 Design awards including an Interior Design B.O.Y.Award\, a LUMEN Award\, and IFDA’s Circle of Excellence Award\, confirms his influence and leadership within the Interior Design Profession. https://www.pavarinidesign.com\n\n\n\nJ. Randall Tarasuk\nPavarini Design| Vice-President-COO and Project Manager\n\nJon Randall Tarasuk\, also known as J. Randall\, currently holds the Vice-President Position at Pavarini Design\, Inc. based in NYC and Paradise Valley\, AZ.   Having mounted over 25 major exhibitions including the prestigious Kips Bay Decorator Showhouse 6 times and both Residential and commercial projects nationally\, his educational background and decades of experience make him a highly consummate professional on many levels. On a daily basis\, Randall manages construction projects\, coordinates project development\, and interacts with all project tradesmen. He has also been a key partner in brand expansion through development of new product lines of rugs\, textiles\, upholstered furniture\, and case goods. Randall writes\, reviews\, and revises all company correspondence letters\, website and social media postings and also plays an avid role in design development. https://www.pavarinidesign.com\n\n\nJudith Clark\, FIFA\, CID\nDesign Elements\n\nWith over 30 years of Interior Design experience\, Judith Clark has been creating beautiful spaces and windows for clientele throughout the San Francisco Bay Area. With a large entourage of artisans and product\, she creates environments that exemplifies the clients suburb taste. Many industry members have relied on Judith for her knowledge and know-how including classes on iPad Applications for a Paperless Business. As a Certified Interior Designer she was on the Board of California Council on Interior Design Certification (CCIDC) for six years. CCIDC is a state sanctioned organization that provides the testing and certifies Designers in California. In 2007 Judith was the National President of International Furnishings and Design Assn. (IFDA). She was asked to attend Mason & Object and the Furnex Furniture Show in Cairo\, Egypt. She has held numerous board positions on the Northern California Chapter Board including President. Judith now holds a Directors position on the IFDA National Board along with being an IFDA Fellow.\n\nRich Schell\, \nPrincipal Designer | Rich Schell Interiors\nI was born and raised in Casper Wyoming\, not necessarily a mecca of great design\, but I always had a burning desire to create and make things beautiful. So I finally got my own bedroom at age 15 and then watch out! It was a continuous stage to arrange\, rearrange\, decorate and practice my craft!\n\nI began working in a flower shop at age 13\, working all the way through High School and beyond. I traveled a fabulous year in Up with People\, an International Singing group in 1979 and 1980 and arrived back to Wyoming\, and believe it or not\, I had a two year career in the Wyoming Oil fields\, climbing rigs in steel toed boots\, in my hard hat! Woof! lol… Anyway\, back to my roots… I went back to my artsy side and flowers called me back. In 1985 Colorado Springs became home and the Broadmoor Hotel became my platform to design in the florist there until I became antsy to do my own thing.\nIn 1987\, my partner Greg Wragge and I opened Rich Designs Home. The business has continually transformed year after year becoming a great destination for Fresh Flowers\, Interiors and Art. Thank you for allowing me to touch your lives in so many ways I must say the ride has been a good one!  https://www.richschellinteriors.com\n\n\n\n\n@pavarinidesign\n@richschell\n@IFDA.Official\n@IFDANY\n@strictlysanti\n\n\n\n\n\n\n\n\n\n\n\n\n\n
URL:https://ifda.com/event/ifda-ny-and-international-design-in-the-wild-wild-west/
LOCATION:ON LINE via ZOOM
END:VEVENT
END:VCALENDAR