BEGIN:VCALENDAR
VERSION:2.0
PRODID:-//International Furnishings and Design Association - ECPv5.1.0//NONSGML v1.0//EN
CALSCALE:GREGORIAN
METHOD:PUBLISH
X-WR-CALNAME:International Furnishings and Design Association
X-ORIGINAL-URL:https://ifda.com
X-WR-CALDESC:Events for International Furnishings and Design Association
BEGIN:VTIMEZONE
TZID:America/New_York
BEGIN:DAYLIGHT
TZOFFSETFROM:-0500
TZOFFSETTO:-0400
TZNAME:EDT
DTSTART:20210314T070000
END:DAYLIGHT
BEGIN:STANDARD
TZOFFSETFROM:-0400
TZOFFSETTO:-0500
TZNAME:EST
DTSTART:20211107T060000
END:STANDARD
END:VTIMEZONE
BEGIN:VEVENT
DTSTART;TZID=America/New_York:20211006T110000
DTEND;TZID=America/New_York:20211006T120000
DTSTAMP:20260419T120058
CREATED:20210927T195426Z
LAST-MODIFIED:20210927T195604Z
UID:12157-1633518000-1633521600@ifda.com
SUMMARY:IFDA NY- Art to Art\, Why is Something Beautiful?
DESCRIPTION:  \nWednesday\, October 6\, 2021\n11:00 AM\nART to ART\n \n  \n \nClick here for the link \nto join the event\n \n\n  \n
URL:https://ifda.com/event/ifda-ny-art-to-art-why-is-something-beautiful/
LOCATION:ON LINE via ZOOM
END:VEVENT
END:VCALENDAR