BEGIN:VCALENDAR
VERSION:2.0
PRODID:-//International Furnishings and Design Association - ECPv5.1.0//NONSGML v1.0//EN
CALSCALE:GREGORIAN
METHOD:PUBLISH
X-WR-CALNAME:International Furnishings and Design Association
X-ORIGINAL-URL:https://ifda.com
X-WR-CALDESC:Events for International Furnishings and Design Association
BEGIN:VTIMEZONE
TZID:America/New_York
BEGIN:DAYLIGHT
TZOFFSETFROM:-0500
TZOFFSETTO:-0400
TZNAME:EDT
DTSTART:20230312T070000
END:DAYLIGHT
BEGIN:STANDARD
TZOFFSETFROM:-0400
TZOFFSETTO:-0500
TZNAME:EST
DTSTART:20231105T060000
END:STANDARD
END:VTIMEZONE
BEGIN:VEVENT
DTSTART;TZID=America/New_York:20230403T173000
DTEND;TZID=America/New_York:20230403T190000
DTSTAMP:20260420T013035
CREATED:20230328T113418Z
LAST-MODIFIED:20230328T114526Z
UID:13936-1680543000-1680548400@ifda.com
SUMMARY:IFDA NY- C-3 at Daintree  Rooftop and Lounge
DESCRIPTION:  \n \n \n
URL:https://ifda.com/event/ifda-ny-c-3-at-daintree-rooftop-and-lounge/
END:VEVENT
END:VCALENDAR