BEGIN:VCALENDAR
VERSION:2.0
PRODID:-//International Furnishings and Design Association - ECPv5.1.0//NONSGML v1.0//EN
CALSCALE:GREGORIAN
METHOD:PUBLISH
X-WR-CALNAME:International Furnishings and Design Association
X-ORIGINAL-URL:https://ifda.com
X-WR-CALDESC:Events for International Furnishings and Design Association
BEGIN:VTIMEZONE
TZID:America/New_York
BEGIN:DAYLIGHT
TZOFFSETFROM:-0500
TZOFFSETTO:-0400
TZNAME:EDT
DTSTART:20210314T070000
END:DAYLIGHT
BEGIN:STANDARD
TZOFFSETFROM:-0400
TZOFFSETTO:-0500
TZNAME:EST
DTSTART:20211107T060000
END:STANDARD
END:VTIMEZONE
BEGIN:VEVENT
DTSTART;TZID=America/New_York:20210712T173000
DTEND;TZID=America/New_York:20210712T193000
DTSTAMP:20260419T164630
CREATED:20210707T155056Z
LAST-MODIFIED:20210707T155526Z
UID:11796-1626111000-1626118200@ifda.com
SUMMARY:IFDA NY/ CCC Little Island IFDA Members Only
DESCRIPTION:JUST OPENED & ALREADY A LANDMARK!\nJoin IFDA NY\nfor\nCOCKTAILS\, CONVERSATION & CONNECTIONS\nat\n \nLITTLE ISLAND\nNew York’s Sensational New Park\nOffshore in the Hudson River at 13th St.\nMonday\, July 12th\n5:30 PM – 7:30 PM\nThe park requires a free ticket.\nGet your free timed tickets at www.littleisland.org\nMeet IFDA at THE PLAYGROUND\n \nBe prepared to be gobsmacked!\nMore info: https://littleisland.org/visit-us/\nCash Bar\nBring business cards\,\nsuntan lotion and a blanket to sit on!\nNetwork like never before!\nClick here for the link to Join\nSubway:\nThe nearest subway stations are the A\, C\, E\, and L trains located at 14th Street and 8th Avenue (ADA accessible); the 1\, 2\, and 3 trains located at 14th Street and 7th Avenue; and the F and M trains located at 14th Street and 6th Avenue.\nBus:\nThe M11\, M12\, and M14D SBS buses stop at 14th Street and 10th Avenue.\n\n  \nJoin IFDA\, Lead the Industry don’t follow:\nhttps://ifda.com/join-ifda/\n
URL:https://ifda.com/event/ifda-ny-ccc-little-island-ifda-members-only/
LOCATION:Little Island\, Hudson River at 13th St.\, NYC\, United States
END:VEVENT
END:VCALENDAR