BEGIN:VCALENDAR
VERSION:2.0
PRODID:-//International Furnishings and Design Association - ECPv5.1.0//NONSGML v1.0//EN
CALSCALE:GREGORIAN
METHOD:PUBLISH
X-WR-CALNAME:International Furnishings and Design Association
X-ORIGINAL-URL:https://ifda.com
X-WR-CALDESC:Events for International Furnishings and Design Association
BEGIN:VTIMEZONE
TZID:America/New_York
BEGIN:DAYLIGHT
TZOFFSETFROM:-0500
TZOFFSETTO:-0400
TZNAME:EDT
DTSTART:20230312T070000
END:DAYLIGHT
BEGIN:STANDARD
TZOFFSETFROM:-0400
TZOFFSETTO:-0500
TZNAME:EST
DTSTART:20231105T060000
END:STANDARD
END:VTIMEZONE
BEGIN:VEVENT
DTSTART;TZID=America/New_York:20230307T173000
DTEND;TZID=America/New_York:20230307T193000
DTSTAMP:20260419T221844
CREATED:20230223T212938Z
LAST-MODIFIED:20230223T213421Z
UID:13862-1678210200-1678217400@ifda.com
SUMMARY:IFDA NY- Enter the creative mindset of the great Italian artists and designers
DESCRIPTION:Tuesday\, March 7\, 2023 at 5:30 PM\nArtemest Gallery\, 518 West 19th Street\, NYC. (near High Line)\nIFDA Members: Free:  Guests $10 per person \n \n \n \n \n \n \n
URL:https://ifda.com/event/ifda-ny-enter-the-creative-mindset-of-the-great-italian-artists-and-designers/
LOCATION:Artemest Gallery\, 518 West 19th Street\, New York\, NY\, United States
END:VEVENT
END:VCALENDAR