BEGIN:VCALENDAR
VERSION:2.0
PRODID:-//International Furnishings and Design Association - ECPv5.1.0//NONSGML v1.0//EN
CALSCALE:GREGORIAN
METHOD:PUBLISH
X-WR-CALNAME:International Furnishings and Design Association
X-ORIGINAL-URL:https://ifda.com
X-WR-CALDESC:Events for International Furnishings and Design Association
BEGIN:VTIMEZONE
TZID:America/New_York
BEGIN:DAYLIGHT
TZOFFSETFROM:-0500
TZOFFSETTO:-0400
TZNAME:EDT
DTSTART:20210314T070000
END:DAYLIGHT
BEGIN:STANDARD
TZOFFSETFROM:-0400
TZOFFSETTO:-0500
TZNAME:EST
DTSTART:20211107T060000
END:STANDARD
END:VTIMEZONE
BEGIN:VEVENT
DTSTART;TZID=America/New_York:20210421T110000
DTEND;TZID=America/New_York:20210421T120000
DTSTAMP:20260423T134150
CREATED:20210418T161140Z
LAST-MODIFIED:20210418T163127Z
UID:11462-1619002800-1619006400@ifda.com
SUMMARY:IFDA NY-Flexibility by Design with Resource Furniture
DESCRIPTION:Flexibility by Design with Resource Furniture\nJoin us as we experience their newest and best products and information\nfirst hand as we lead you on a tour of their NY Showroom where\nwe will answer such questions as\nWhy is Resource the go-to source for designers and their clients\nwho are looking to make their homes more functional?\nHow does Resource directly address the needs of\ncustomers living through the pandemic?\nDavid Santiago will moderate the panel and\nChallie Stillman\, VP of Sales & Design at Resource Furniture\nwill lead the tour and demonstrate the features of their furniture\n \n\nWednesday April 21st\, 2021\n\n\n\n\n\n\n\n\n\n\n\n\n11:00 am EST\nClick Here for the Link to Join\n\nGuests Non IFDA Members:  $10\nIFDA Members: Free\n(please supply your IFDA member number)\n\n\nIFDA has presented 99 Webinars since the quarantine began with the generous support of our Sponsors and Members.\nAll of these webinars are available to Members on the IFDA website behind the Members Portal.\nWe now hope you will continue\, to learn and grow\nwith our industry and to support IFDA. We want to continue to give you outstanding programming but even a\nnon-profit has expenses.\nPlease continue to support our mission with the small attendance fee for non-members.\n\n\n\n\n\n\n\n\n\n\n\n\n\n\n\n\n\n\n\n\nAs Vice President of Sales & Design for Resource Furniture\, Challie Stillman oversees design and sales operations across all 8 North American showrooms\, with a focus on long-term brand strategy. In addition\, she works closely with Resource Furniture’s dedicated Contract Division on large scale multi-family residential projects\, hospitality developments\, micro-units\, and co-living developments.\n\nPrior to starting this position in early 2020\, Ms. Stillman acted as Design Director of Resource Furniture since 2013. During that time\, she curated the company’s vast collection of transforming and multi-functional furniture\, managed all vendor relationships\, and designed Resource Furniture’s showrooms.\nChallie received her Bachelor of Arts in Anthropology from Smith College in 2005\, Associates in Interior Design degree from FIT in 2012\, and her MBA from NYU Stern School of Business in May\, 2020.\n\n\nJoin IFDA\, Lead the Industry don’t follow:https://ifda.com/join-ifda/\n\n\n\n\n\n\n\n\n\n\n\n
URL:https://ifda.com/event/ifda-ny-flexibility-by-design-with-resource-furniture/
LOCATION:ON LINE via ZOOM
END:VEVENT
END:VCALENDAR