BEGIN:VCALENDAR
VERSION:2.0
PRODID:-//International Furnishings and Design Association - ECPv5.1.0//NONSGML v1.0//EN
CALSCALE:GREGORIAN
METHOD:PUBLISH
X-WR-CALNAME:International Furnishings and Design Association
X-ORIGINAL-URL:https://ifda.com
X-WR-CALDESC:Events for International Furnishings and Design Association
BEGIN:VTIMEZONE
TZID:America/New_York
BEGIN:DAYLIGHT
TZOFFSETFROM:-0500
TZOFFSETTO:-0400
TZNAME:EDT
DTSTART:20210314T070000
END:DAYLIGHT
BEGIN:STANDARD
TZOFFSETFROM:-0400
TZOFFSETTO:-0500
TZNAME:EST
DTSTART:20211107T060000
END:STANDARD
END:VTIMEZONE
BEGIN:VEVENT
DTSTART;TZID=America/New_York:20211117T110000
DTEND;TZID=America/New_York:20211117T120000
DTSTAMP:20260422T223051
CREATED:20211101T211723Z
LAST-MODIFIED:20211101T212006Z
UID:12243-1637146800-1637150400@ifda.com
SUMMARY:IFDA NY- Fragrance in the Home
DESCRIPTION:A Scented Home\n \nAs a result of the pandemic\, consumers have become home-centric. From home goods and home renovations to home cooking and comfort foods\, home fragrance and self-care are driving air care market activity. \nAmy Marks-McGee’s trend presentation focuses on home fragrance trends including candles\, air fresheners\, and tech driven fragrance devices. In addition\, this presentation will briefly review the advantages of each type of home fragrance and tips on where to use them. \nWednesday\, Nov 17th at 11:00 AM on Zoom\nAmy Marks-McGee is an award-winning creative marketing professional with over twenty five years of success within the fragrance and flavor industry. Her work experience includes fine fragrance\, air care\, and personal care marketing for three leading fragrance houses. Amy’s strength is her ability to identify and analyze emerging trends early. She recognizes patterns across a variety of industries and concisely synthesizes the information into new product ideas. Amy has been recognized by Women in Flavor & Fragrance Commerce\, Inc. for the 2011 Woman of the Year Award for her excellence in marketing and leadership. A writer and public speaker\, she writes the Forward Thinking column in Perfumer & Flavorist magazine and contributes articles to industry specific trade publications. \n \nAmy founded Trendincite LLC\, a consulting company to help clients cull through\, distill\, and translate pertinent trend information into tangible products. The company’s core values are to engage all five senses\, capture inspiration from unexpected places\, and make the creative process enjoyable. Their clients include fragrance and flavor suppliers\, consumer packaged goods manufacturers\, and market research firms. \n \nClick Here for the Link to Join\n \n  \nhttps://trendincite.com/\namy@trendincite.com\ntwitter: @trendincite;(888) 561-1229 \n
URL:https://ifda.com/event/ifda-ny-fragrance-in-the-home/
LOCATION:ON LINE via ZOOM
END:VEVENT
END:VCALENDAR