BEGIN:VCALENDAR
VERSION:2.0
PRODID:-//International Furnishings and Design Association - ECPv5.1.0//NONSGML v1.0//EN
CALSCALE:GREGORIAN
METHOD:PUBLISH
X-WR-CALNAME:International Furnishings and Design Association
X-ORIGINAL-URL:https://ifda.com
X-WR-CALDESC:Events for International Furnishings and Design Association
BEGIN:VTIMEZONE
TZID:America/New_York
BEGIN:DAYLIGHT
TZOFFSETFROM:-0500
TZOFFSETTO:-0400
TZNAME:EDT
DTSTART:20210314T070000
END:DAYLIGHT
BEGIN:STANDARD
TZOFFSETFROM:-0400
TZOFFSETTO:-0500
TZNAME:EST
DTSTART:20211107T060000
END:STANDARD
END:VTIMEZONE
BEGIN:VEVENT
DTSTART;TZID=America/New_York:20210623T140000
DTEND;TZID=America/New_York:20210623T150000
DTSTAMP:20260420T014904
CREATED:20210622T195349Z
LAST-MODIFIED:20210622T195722Z
UID:11696-1624456800-1624460400@ifda.com
SUMMARY:IFDA NY- GET LIT: LIVE from LIGHTOVATION
DESCRIPTION:Wednesday\, June 23rd\, 2021\n2PM (Eastern Time)\n1PM (Central Time)\nLIVE from LIGHTOVATION\nwith\nLaura Van Zeyl and\nDavid Santiago as we\nGET LIT\ntouring the showrooms of\nCurrey & Company\,\nCrystorama\,\nAmerican Brass & Crystal\,\nHubbardton Forge and\nProgress Lighting.\n\nJoin Laura Van Zeyl\, Vice President of Lighting Technology Development and Marketing at\nDallas Market Center for a LIVE Tour\nwith IFDA NY President David Santiago.\nDate: Wednesday\, June 23rd\, 2021\n2PM (Eastern Time)\n1PM (Central Time)\nClick here for the link to Join\nJoin IFDA\, Lead the Industry don’t follow:\nhttps://ifda.com/join-ifda/\nLearn more on social media:\n@dallasmarket\n@smarthomelaura\n@curreyco\n@crystorama\n@americanbrasscrystal\n@hubbardtonforge\n@progressltg\n@IFDA.Official\n@IFDANY\n@strictlysanti\nLightovation at Dallas Market Center\nbrings together the best and the brightest in residential lighting\, enabling the lighting industry to conduct business safely. Discover the latest trends\, innovations and products in every lighting category including outdoor\, ceiling fans\, lighting controls and smart lighting systems. Dallas is your destination for illumination.\nLaura Van Zeyl\nPrior to joining Dallas Market Center in 2016 as Vice President of Lighting Technology Development & Marketing\, Laura Van Zeyl spent more than two decades covering trends in the lighting and home furnishings industries as an editor for Residential Lighting\, Home Fashion Forecast\, Accessory Merchandising and Furniture Style magazines. She is co-chair of the Women in Lighting Committee for the American Lighting Association\, a Board member for ART – The Creative Home Furnishings Network and an Affiliate member of the International Association of Lighting Designers. She is also an Advisory Board member for The H Foundation\, which hosts the lighting industry’s largest charitable event\, the Goombay Bash\, which has raised more than $9 million for basic science cancer research.\n@smarthomelaura\nCurrey & Company\nis a wholesale manufacturer of distinctive home furnishings\, including lighting\, furniture and accent pieces. Our reputation for innovative furnishings spans the residential\, contract and hospitality spaces\, and Currey products are found in interiors around the world.\nOur vision\, to create distinctive home furnishings\, has never wavered. Our mission\, to serve our customers\, owners and employees in an exemplary manner while nurturing a culture that encourages all to flourish\, has remained steadfast for 30 years.\n2018 marks our 30th year in business. This anniversary is very special to us\, as we reflect on all those who have made us a success in a competitive industry over the last three decades. We are a diverse mix of people who work together and take pride in our work\, but this wouldn’t be the case were it not for the spirit the Currey family instilled into the weave of our company\, which is still maintained by our leadership today.\nwww.curreyandcompany.com\nCrystorama\nWe’ve evolved into a design house and manufacturer by building on five decades of practical design experience informed by continuing dynamic inspiration. Under the family’s second generation leadership\, we’re always trying new ideas\, studying\, evaluating and adjusting the line quickly. This process ensures our designs are of the moment\, yet grounded in the authenticity that helped us get where we are today.\nWe’ve maintained the fundamental family values of founder Abraham Kleinberg. “Mr. K” has never taken shortcuts to produce any product. He’s always dealt fairly with customers and vendors. Everything he did represented a genuine\, sincere effort to bring pleasing products to fashion-conscious\, design-savvy customers.\nwww.crystorama.com\nAmerican Brass & Crystal\nAmerican Brass and Crystal has truly embraced the old world style of manufacturing with masterful artisans putting pure attention to detail into every fixture they create. Our manufacturing facility holds more raw Brass components than any Lighting manufacturer in the world. This allows us to choose from thousands of raw individual castings to personally create the chandelier you chose for your home. This is where the process starts. Each individual component gets hand drilled to the specific crystal layout you have chosen from us.\nwww.abclighting.net\nHubbardton Forge\nToday\, we are 230 strong\, at a company that started out in 1974\, with two college buddies in a barn with great creative talent\, passion and a vision. Hubbardton Forge is one of the country’s oldest and largest continuously-operating commercial forges\, where artisans handcraft each product to order\, one at a time in Castleton\, Vermont.\nWe are design-driven. Our designers and makers collaborate to achieve a common vision. All based in Vermont\, they are able to share ideas and design intent and their goals both in form and function for each piece.\nManufacturing domestically allows a level of responsiveness to customers we couldn’t otherwise provide\, keeps well-paying jobs in the U.S.A.\, and helps to strengthen our local economy. All of our products are designed and manufactured at our facility in Castleton\, VT.\nwww.hubbardtonforge.com\nProgress Lighting\nProgress Lighting is committed to manufacturing award-winning energy efficient products while educating individuals on new options available in solid-state lighting. With over a century of lighting technology\, leadership and engineering\, Progress Lighting offers the highest quality in residential and commercial lighting solutions bringing products that deliver aesthetic appeal\, stellar performance\, easy installation and value to the designer marketplace.\nwww.hubbell.com/progresslighting\n
URL:https://ifda.com/event/ifda-ny-get-lit-live-from-lightovation/
LOCATION:10982
END:VEVENT
END:VCALENDAR