BEGIN:VCALENDAR
VERSION:2.0
PRODID:-//International Furnishings and Design Association - ECPv5.1.0//NONSGML v1.0//EN
CALSCALE:GREGORIAN
METHOD:PUBLISH
X-WR-CALNAME:International Furnishings and Design Association
X-ORIGINAL-URL:https://ifda.com
X-WR-CALDESC:Events for International Furnishings and Design Association
BEGIN:VTIMEZONE
TZID:America/Halifax
BEGIN:DAYLIGHT
TZOFFSETFROM:-0400
TZOFFSETTO:-0300
TZNAME:ADT
DTSTART:20210314T060000
END:DAYLIGHT
BEGIN:STANDARD
TZOFFSETFROM:-0300
TZOFFSETTO:-0400
TZNAME:AST
DTSTART:20211107T050000
END:STANDARD
END:VTIMEZONE
BEGIN:VEVENT
DTSTART;TZID=America/Halifax:20210414T110000
DTEND;TZID=America/Halifax:20210414T120000
DTSTAMP:20260423T204436
CREATED:20210410T205300Z
LAST-MODIFIED:20210410T205351Z
UID:11446-1618398000-1618401600@ifda.com
SUMMARY:IFDA NY- History of Scalamandre: A Design Industry Icon
DESCRIPTION:A Journey Into The World of\nThe House of Scalamandré\nJoin MaryRita Louis for a conversation about the history of Scalamandre\n“Then & Now”\n\nWednesday April 14th\, 2021\n\n\n\n\n\n\n\n\n\n\n\n\n\n11:00 am EST\nClick Here for the Link to Join\n\nGuests – Non IFDA Members:  $10\nIFDA Members: Free\n\n\nIFDA has presented 99 Webinars since the quarantine began with the generous support of our Sponsors and Members.\nAll of these webinars are available to Members on the IFDA website behind the Members Portal.\nWe now hope you will continue\, to learn and grow\nwith our industry and to support IFDA. We want to continue to give you outstanding programming but even a\nnon-profit has expenses.\nPlease continue to support our mission with the small attendance fee for non-members.\nJoin IFDA\, Lead the Industry don’t follow:https://ifda.com/join-ifda/\n\n\nAbout our Speaker: MaryRita Louis\n\nMaryRita earned her BFA in Interior Design from Kean and then worked as a Residential Designer for 18 years. She has since transitioned into being a Sales Representative for multiple brands\, calling on designers and architects across New Jersey. After 10 years with Scalamandré (previously Stark Fabrics) her working knowledge of the NJ design community and the 17 brands under the Scalamandre umbrella is extensive.\n\n\nhttps://www.scalamandre.com/\n\n@Scalamandre\n@SalamandreFabrics\n@IFDA.Official\n@IFDANY\n@strictlysanti\n\n\n\n\n\n\n\n\n\n\n\n\n\n\n\n
URL:https://ifda.com/event/ifda-ny-history-of-scalamandre-a-design-industry-icon/
END:VEVENT
END:VCALENDAR