BEGIN:VCALENDAR
VERSION:2.0
PRODID:-//International Furnishings and Design Association - ECPv5.1.0//NONSGML v1.0//EN
CALSCALE:GREGORIAN
METHOD:PUBLISH
X-WR-CALNAME:International Furnishings and Design Association
X-ORIGINAL-URL:https://ifda.com
X-WR-CALDESC:Events for International Furnishings and Design Association
BEGIN:VTIMEZONE
TZID:America/New_York
BEGIN:DAYLIGHT
TZOFFSETFROM:-0500
TZOFFSETTO:-0400
TZNAME:EDT
DTSTART:20210314T070000
END:DAYLIGHT
BEGIN:STANDARD
TZOFFSETFROM:-0400
TZOFFSETTO:-0500
TZNAME:EST
DTSTART:20211107T060000
END:STANDARD
END:VTIMEZONE
BEGIN:VEVENT
DTSTART;TZID=America/New_York:20210609T110000
DTEND;TZID=America/New_York:20210609T120000
DTSTAMP:20260422T100119
CREATED:20210530T203326Z
LAST-MODIFIED:20210530T203326Z
UID:11636-1623236400-1623240000@ifda.com
SUMMARY:IFDA NY- Let's Get Loud!...Control and Enhance Sound
DESCRIPTION:Let’s Get Loud!\n\nAbstract technology background with equalizer light effect. Visualization of sound waves.\nClog dancers upstairs?\nHow to hear the best version of your favorite Beethoven symphony?\nTo Control and To Enhance\nTwo Aspects of Sound to Consider\nMaking Rooms Sound and LOOK Great.\nLet’s Get Loud!\nAllan Kirschner from Quiet Rock will give us an introduction to the fundaments of how sound works and why you should care. Understand why sound is important to humans\, how sound works\,\nand its perception to occupants\, and resulting consequences.\nDave Gilbert (IFDA PA) and Bob Turgeon from Bravas\nwill cut through the noise with sound damping interiors and the right mix of professionally designed audio systems.\nSound (audio) is perceived in differing ways by different people.\nOn one end of the spectrum some folks just don’t like louder sound and at the other end folks like it louder but it needs to be clean and intelligible otherwise it’s painful. In both cases it has to sound good.\nHow do we determine and address this?\nWednesday June 9th\, 2021\n11:00 am EST\nOur Speakers:\nAllan Kirschner\nis the Northeast Territory Manager for PABCO Gypsum’s QuietRock brand. Allan has been in the gypsum industry for the past 7 years helping the design industry better understand how QuietRock products can help enhance the end users acoustical experience. As a licensed Architect and LEED professional\, Allan leverages his design and construction experience to provide his customers with holistic solutions. \nQuietRock® by PABCO® Gypsum is the first and most technically advanced sound reducing gypsum panel in the industry. Through continued innovation\, including the patented EZ-Snap® Technology\, QuietRock® sound reducing drywall is an efficient alternative to conventional approaches for building acoustically rated walls. \n\nBob Turgeon BSEE\, Drexel University\, Phila\, PA\, Worked at RCA on the military weapons system site troubleshooting site failures for the SPY1/ EDM radar systems. At Scott Foam Oversaw acoustics lab in the R&D building\, ran tests and developed products for the VP of sales. 25 years of experience designing/fabricating: listening rooms; studio vocal rooms; home theaters. \n  \n  \n  \n  \n  \nDave Gilbert (IFDA PA) is the general manager of Bravas’ Philadelphia branch\, the largest luxury technology company in the world. His beginnings go back for his love of listening to music on AM radio. While he studied management and marketing at Drexel University upon graduation he found a career in audio and eventually video and smart home technology with Hi-Fi Sales\, now Bravas Philadelphia. After 39 years he still enjoys good quality audio and live concerts and introducing people to better audio than that which comes out of a Bluetooth speaker from their smartphone. \n\n  \n  \nBRAVAS is a leading national technology integrator that provides Beautiful Places and Smart Spaces where their customers live\, work\, and play. Get the best sleep of your life with lighting and window solutions that deliver the perfect brightness\, throughout the day and total restorative darkness at night. Cut through the noise with sound damping interiors and the right mix of professionally designed audio systems. Enhance your environment with pristine quality air\, water\, and climate control. Spark joy by building in and hiding away devices and cables and designing your home around the people and activities that you love.\n  \n QuietRock® by PABCO® Gypsum is the first and most technically advanced sound reducing gypsum panel in the industry. Through continued innovation\, including the patented EZ-Snap® Technology\, QuietRock® sound reducing drywall is an efficient alternative to conventional approaches for building acoustically rated walls.\n  \nClick Here for the Link to Join\nGuests Non IFDA Members: $10\nIFDA Members: Free\n(please supply your IFDA member number)\n
URL:https://ifda.com/event/ifda-ny-lets-get-loud-control-and-enhance-sound/
LOCATION:ON LINE via ZOOM
END:VEVENT
END:VCALENDAR