BEGIN:VCALENDAR
VERSION:2.0
PRODID:-//International Furnishings and Design Association - ECPv5.1.0//NONSGML v1.0//EN
CALSCALE:GREGORIAN
METHOD:PUBLISH
X-WR-CALNAME:International Furnishings and Design Association
X-ORIGINAL-URL:https://ifda.com
X-WR-CALDESC:Events for International Furnishings and Design Association
BEGIN:VTIMEZONE
TZID:America/New_York
BEGIN:DAYLIGHT
TZOFFSETFROM:-0500
TZOFFSETTO:-0400
TZNAME:EDT
DTSTART:20220313T070000
END:DAYLIGHT
BEGIN:STANDARD
TZOFFSETFROM:-0400
TZOFFSETTO:-0500
TZNAME:EST
DTSTART:20221106T060000
END:STANDARD
END:VTIMEZONE
BEGIN:VEVENT
DTSTART;TZID=America/New_York:20220803T173000
DTEND;TZID=America/New_York:20220803T190000
DTSTAMP:20260424T000859
CREATED:20220720T184948Z
LAST-MODIFIED:20220720T190552Z
UID:13145-1659547800-1659553200@ifda.com
SUMMARY:IFDA NY- Live Tour How to design a "dementia-friendly" home
DESCRIPTION:\nIFDA Members Only\nWednesday\, August 3\, 2022\n5:30 PM EST  \nIN PERSON !\nJoin  IFDA\nand the \nAlzheimer’s Foundation of America  \nto tour its newest educational initiative: \nThe Apartment\nA full scale model studio residence designed to showcase ways \nindividuals can make a  home “dementia-friendly.”\n  \n \n  \n\nEach area of The Apartment including the kitchen\, bedroom\, bathroom\, living room and dining area highlights different steps and adaptations to enhance quality of life and improve safety for someone with dementia.  \nFrom simple choices like paint colors and lighting to high-tech products like a smart refrigerator\,  \nThe Apartment showcases many tools families can utilize.\nRosemary Bakker\, the Apartment’s Interior Designer\, will join us via Zoom for Q&A at the end of the presentation and tours.  \nWednesday\, August 3rd \n5:30 PM EST  \nIN PERSON\n 322 8th Ave. 7th Floor\nNew York City\n\nPlease bring a $20.00 Donation in Cash\nor a check made out to\n to the Alzheimer’s Foundation of America (AFA)\n\nClick here to register  \nIFDA Members Only.\nSpace is limited so RSVP quickly. \nThe mission of the Alzheimer’s Foundation of America (AFA) is to provide support\, services and education to individuals\, families and caregivers affected by Alzheimer’s disease and related dementias nationwide\, and fund research for better treatment and a cure.\n\n
URL:https://ifda.com/event/ifda-ny-live-tour-how-to-design-a-dementia-friendly-home/
LOCATION:322 8thAve. 7th\, New York\, NY\, 322 8th Ave.\, New York City\, United States
END:VEVENT
END:VCALENDAR