BEGIN:VCALENDAR
VERSION:2.0
PRODID:-//International Furnishings and Design Association - ECPv5.1.0//NONSGML v1.0//EN
CALSCALE:GREGORIAN
METHOD:PUBLISH
X-WR-CALNAME:International Furnishings and Design Association
X-ORIGINAL-URL:https://ifda.com
X-WR-CALDESC:Events for International Furnishings and Design Association
BEGIN:VTIMEZONE
TZID:America/New_York
BEGIN:DAYLIGHT
TZOFFSETFROM:-0500
TZOFFSETTO:-0400
TZNAME:EDT
DTSTART:20210314T070000
END:DAYLIGHT
BEGIN:STANDARD
TZOFFSETFROM:-0400
TZOFFSETTO:-0500
TZNAME:EST
DTSTART:20211107T060000
END:STANDARD
END:VTIMEZONE
BEGIN:VEVENT
DTSTART;TZID=America/New_York:20210505T110000
DTEND;TZID=America/New_York:20210505T120000
DTSTAMP:20260423T034106
CREATED:20210502T191518Z
LAST-MODIFIED:20210502T191845Z
UID:11549-1620212400-1620216000@ifda.com
SUMMARY:IFDA NY-  "Love\, Industry & Cohabitating"   Join Frank Leyon of Oly and Jane Dagmi  of Designers Today
DESCRIPTION:Join Frank Leyon Director of global sales of Oly and\nJane Dagmi Editor in Chief of Designers Today\nfor a conversation and glimpse into their\nlives\, careers\, wanderlust and cohabitating bliss!\n \nThe Courtship\nLovebirds and industry veterans….Jane Dagmi and Frank Leyon\nmet at Las Vegas Market in the summer of 2014. One year later\, at the Atlanta Market they had their first date. Three years into the relationship\, with visions of cohabitating and establishing a new home base\, they purchased a love nest in High Point\, NC and soon after relocated from Florida and California.\n \nAll about Frank\nFrank started his career in the home furnishings industry at the Bombay Company in the 90s and the went on to work for Target\, Ebanista\, Alfonso Marina\, and Baker. For the last seven years he has been the director of global sales at Oly. Prior to the home furnishings world\, Frank worked for Ritz Carlton\, traveling the country and opening new hotel locations. Noteworthy acquaintances during his five-year tenure included Queen Elizabeth II\, Margaret Thatcher and Sade. Frank is a world traveler\, musician and avid motorcycle enthusiast. \nAll about Jane\nJane is the editor in chief of Designers Today magazine. She studied interior design at Parsons but never became an interior designer\, rather opting to create spaces as a visual merchandiser and later as a magazine editor and stylist\, where a 13-year stint at Country Living solidified her love for print and telling stories.\nAfter seven years of juggling freelance gigs and contemplating becoming a teacher\, Jane was pulled back into the home and design industry through a colleague who hired her as communications manager for a new app for interior designers. While that app did not succeed\, that job put her back on a good path and got her to where she is and to whom she is with today. \nWednesday May 5th \, 2021\n11:00 am EST\nClick Here for the Link to Join\nGuests Non IFDA Members: $10\nIFDA Members: Free\n(please supply your IFDA member number)\nIFDA has presented 99 Webinars since the quarantine began with the generous support of our Sponsors and Members.\nAll of these webinars are available to Members on the IFDA website behind the Members Portal.\nWe now hope you will continue\, to learn and grow\nwith our industry and to support IFDA. We want to continue to give you outstanding programming but even a\nnon-profit has expenses.\nPlease continue to support our mission with the small attendance fee for non-members.\nJoin IFDA\, Lead the Industry don’t follow: https://ifda.com/join-ifda/ \n\n
URL:https://ifda.com/event/ifda-ny-love-industry-cohabitating-join-frank-leyon-of-oly-and-jane-dagmi-of-designers-today/
LOCATION:ON LINE via ZOOM
END:VEVENT
END:VCALENDAR