BEGIN:VCALENDAR
VERSION:2.0
PRODID:-//International Furnishings and Design Association - ECPv5.1.0//NONSGML v1.0//EN
CALSCALE:GREGORIAN
METHOD:PUBLISH
X-WR-CALNAME:International Furnishings and Design Association
X-ORIGINAL-URL:https://ifda.com
X-WR-CALDESC:Events for International Furnishings and Design Association
BEGIN:VTIMEZONE
TZID:America/Halifax
BEGIN:DAYLIGHT
TZOFFSETFROM:-0400
TZOFFSETTO:-0300
TZNAME:ADT
DTSTART:20220313T060000
END:DAYLIGHT
BEGIN:STANDARD
TZOFFSETFROM:-0300
TZOFFSETTO:-0400
TZNAME:AST
DTSTART:20221106T050000
END:STANDARD
END:VTIMEZONE
BEGIN:VEVENT
DTSTART;TZID=America/Halifax:20221121T183000
DTEND;TZID=America/Halifax:20221121T193000
DTSTAMP:20260422T192307
CREATED:20221121T133943Z
LAST-MODIFIED:20221121T134530Z
UID:13425-1669055400-1669059000@ifda.com
SUMMARY:IFDA NY MEET MEMBER CATHERINE BROPHY
DESCRIPTION:MONDAY\, NOVEMBER 21\, 2022 AT 6:30 PM\nClick Here to Register for the Link\nMEET CATHERINE BROPHY\n\n
URL:https://ifda.com/event/ifda-ny-meet-member-catherine-brophy/
LOCATION:ON LINE via ZOOM
END:VEVENT
END:VCALENDAR