BEGIN:VCALENDAR
VERSION:2.0
PRODID:-//International Furnishings and Design Association - ECPv5.1.0//NONSGML v1.0//EN
CALSCALE:GREGORIAN
METHOD:PUBLISH
X-WR-CALNAME:International Furnishings and Design Association
X-ORIGINAL-URL:https://ifda.com
X-WR-CALDESC:Events for International Furnishings and Design Association
BEGIN:VTIMEZONE
TZID:America/New_York
BEGIN:DAYLIGHT
TZOFFSETFROM:-0500
TZOFFSETTO:-0400
TZNAME:EDT
DTSTART:20210314T070000
END:DAYLIGHT
BEGIN:STANDARD
TZOFFSETFROM:-0400
TZOFFSETTO:-0500
TZNAME:EST
DTSTART:20211107T060000
END:STANDARD
END:VTIMEZONE
BEGIN:VEVENT
DTSTART;TZID=America/New_York:20211227T183000
DTEND;TZID=America/New_York:20211227T193000
DTSTAMP:20260423T114909
CREATED:20211227T164502Z
LAST-MODIFIED:20211227T165840Z
UID:12357-1640629800-1640633400@ifda.com
SUMMARY:IFDA NY- Meet the Members Town Hall
DESCRIPTION:Monday Dec 27th\, 2021\n6:30 PM EST\n(Note new Time!)\nReally\nGet to know your fellow members!\n  \n \nClick Here for the Link to Join\n
URL:https://ifda.com/event/ifda-ny-meet-the-members-town-hall-2/
LOCATION:ON LINE via ZOOM
END:VEVENT
END:VCALENDAR