BEGIN:VCALENDAR
VERSION:2.0
PRODID:-//International Furnishings and Design Association - ECPv5.1.0//NONSGML v1.0//EN
CALSCALE:GREGORIAN
METHOD:PUBLISH
X-WR-CALNAME:International Furnishings and Design Association
X-ORIGINAL-URL:https://ifda.com
X-WR-CALDESC:Events for International Furnishings and Design Association
BEGIN:VTIMEZONE
TZID:America/New_York
BEGIN:DAYLIGHT
TZOFFSETFROM:-0500
TZOFFSETTO:-0400
TZNAME:EDT
DTSTART:20210314T070000
END:DAYLIGHT
BEGIN:STANDARD
TZOFFSETFROM:-0400
TZOFFSETTO:-0500
TZNAME:EST
DTSTART:20211107T060000
END:STANDARD
END:VTIMEZONE
BEGIN:VEVENT
DTSTART;TZID=America/New_York:20211213T173000
DTEND;TZID=America/New_York:20211213T193000
DTSTAMP:20260423T073706
CREATED:20211208T010853Z
LAST-MODIFIED:20211208T012404Z
UID:12332-1639416600-1639423800@ifda.com
SUMMARY:IFDA NY- Member Town Hall– Really Get to know your fellow members!
DESCRIPTION:Monday Dec 13th\, 2021\n \n\nReally\nGet to know your fellow members!\nMonday Dec 13th\, 2021\n\n\n\n\n\n\n\n\n\n\n\n\n\n6:30 PM EST\n(Note new Time!) \nOur Featured Members:\n\n\n\n\n\n\n\n\n\n\n\n\n \nClick Here for the Link to Join\n
URL:https://ifda.com/event/ifda-ny-member-town-hall-really-get-to-know-your-fellow-members/
END:VEVENT
END:VCALENDAR