BEGIN:VCALENDAR
VERSION:2.0
PRODID:-//International Furnishings and Design Association - ECPv5.1.0//NONSGML v1.0//EN
CALSCALE:GREGORIAN
METHOD:PUBLISH
X-WR-CALNAME:International Furnishings and Design Association
X-ORIGINAL-URL:https://ifda.com
X-WR-CALDESC:Events for International Furnishings and Design Association
BEGIN:VTIMEZONE
TZID:America/New_York
BEGIN:DAYLIGHT
TZOFFSETFROM:-0500
TZOFFSETTO:-0400
TZNAME:EDT
DTSTART:20220313T070000
END:DAYLIGHT
BEGIN:STANDARD
TZOFFSETFROM:-0400
TZOFFSETTO:-0500
TZNAME:EST
DTSTART:20221106T060000
END:STANDARD
END:VTIMEZONE
BEGIN:VEVENT
DTSTART;TZID=America/New_York:20220112T110000
DTEND;TZID=America/New_York:20220112T120000
DTSTAMP:20260423T160656
CREATED:20220104T021114Z
LAST-MODIFIED:20220105T031712Z
UID:12413-1641985200-1641988800@ifda.com
SUMMARY:IFDA NY- Staying Power: Iconic American Textile Designs of Today & Tomorrow
DESCRIPTION:Wednesday\, January 12\, 2022\n11 am EST\nStaying Power:\nIconic American Textile Designs\nof Today & Tomorrow\nWhat makes an iconic American design?\n \n\nJoin Saana Baker of The Textile Eye for a look at style-defining color and pattern\, from historical companies established during the\ngilded age to mid-century masters\, to the cutting-edge designers defining the tastes of tomorrow\n \nSaana Baker\nTextile Designer and Editor in Chief of The Textile Eye. Saana is a textile design consultant and trend-watcher specializing in luxury home products. Over the last 25 years\, she has helped craft collections of fabric\, rugs\, bedding\, and wallpaper for the likes of Jiun Ho\, David Phoenix\, Barbara Barry\, and Schumacher and has been a “ghost” designer on several licensed lines for Frank Ponterio and Carrier & Co. among others. She is the creator and Editor in Chief of The Textile Eye\, a quarterly trend and show report.\n  \nWednesday\, Jan. 12th\nat 11 am EST\non Zoom\nClick Here to Join Us\n
URL:https://ifda.com/event/ifda-ny-staying-power-iconic-american-textile-designs-of-today-tomorrow/
LOCATION:ON LINE via ZOOM
END:VEVENT
END:VCALENDAR