BEGIN:VCALENDAR
VERSION:2.0
PRODID:-//International Furnishings and Design Association - ECPv5.1.0//NONSGML v1.0//EN
CALSCALE:GREGORIAN
METHOD:PUBLISH
X-WR-CALNAME:International Furnishings and Design Association
X-ORIGINAL-URL:https://ifda.com
X-WR-CALDESC:Events for International Furnishings and Design Association
BEGIN:VTIMEZONE
TZID:America/New_York
BEGIN:DAYLIGHT
TZOFFSETFROM:-0500
TZOFFSETTO:-0400
TZNAME:EDT
DTSTART:20210314T070000
END:DAYLIGHT
BEGIN:STANDARD
TZOFFSETFROM:-0400
TZOFFSETTO:-0500
TZNAME:EST
DTSTART:20211107T060000
END:STANDARD
END:VTIMEZONE
BEGIN:VEVENT
DTSTART;TZID=America/New_York:20210707T110000
DTEND;TZID=America/New_York:20210707T120000
DTSTAMP:20260419T182213
CREATED:20210704T154417Z
LAST-MODIFIED:20210704T160043Z
UID:11778-1625655600-1625659200@ifda.com
SUMMARY:ifda ny / Unleashing + Maximizing Your Creativity with Ayse Birse
DESCRIPTION:https://www.aysebirsel.com/Unleashing + Maximizing Your Creativity\nwith Ayse Birsel\n \nIsolation and lack of experiences due to the pandemic has taken a toll on our wellbeing and dulled our senses. In this talk\, Ayse Birsel\, co-founder of Birsel + Seck\, an award-winning innovation studio that consults regularly for Amazon\, Herman Miller\, GE\, IKEA\, Toyota\, and more\, will help stimulate and energize your creative process.\nNamed one of Fast Company’s Most Creative People in 2017\, Birsel is also a product designer who has designed kitchen accessories and tabletop products for Target and Delish.com\, some of her designs can even be found in the permanent collection at MoMA.\nhttps://www.aysebirsel.com/\n \nWednesday\, July 7th\, 2021    11 am EDT\nBrought to you by 41 Madison\nIFDA NY Silver Sponsor\nClick Here for the Link to Join\nThere is no charge for this webinar.\n
URL:https://ifda.com/event/ifda-ny-unleashing-maximizing-your-creativity-with-ayse-birse/
LOCATION:ON LINE via ZOOM
END:VEVENT
END:VCALENDAR