BEGIN:VCALENDAR
VERSION:2.0
PRODID:-//International Furnishings and Design Association - ECPv5.1.0//NONSGML v1.0//EN
CALSCALE:GREGORIAN
METHOD:PUBLISH
X-WR-CALNAME:International Furnishings and Design Association
X-ORIGINAL-URL:https://ifda.com
X-WR-CALDESC:Events for International Furnishings and Design Association
BEGIN:VTIMEZONE
TZID:America/New_York
BEGIN:DAYLIGHT
TZOFFSETFROM:-0500
TZOFFSETTO:-0400
TZNAME:EDT
DTSTART:20220313T070000
END:DAYLIGHT
BEGIN:STANDARD
TZOFFSETFROM:-0400
TZOFFSETTO:-0500
TZNAME:EST
DTSTART:20221106T060000
END:STANDARD
END:VTIMEZONE
BEGIN:VEVENT
DTSTART;TZID=America/New_York:20220915T120000
DTEND;TZID=America/New_York:20220915T140000
DTSTAMP:20260423T142224
CREATED:20220823T010036Z
LAST-MODIFIED:20220823T010036Z
UID:13213-1663243200-1663250400@ifda.com
SUMMARY:IFDA Richmond Anniversary Luncheon
DESCRIPTION:IFDA Richmond invites you to a celebratory luncheon to honor our founding members and past presidents! \nJoin us on Thursday\, September 15th at The Jefferson from noon – 2pm. RSVP by September 6th to save your seat at this special event! \nLunch for IFDA Members is $25 dollars and for non-IFDA Members is $55. Cheers\, see you on 9/15! \n \n
URL:https://ifda.com/event/ifda-richmond-anniversary-luncheon/
LOCATION:The Jefferson\, 101 W Franklin Street\, Richmond\, VA\, 23220\, United States
ORGANIZER;CN="IFDA%20Richmond":MAILTO:rparrish@wellbornwright.com
END:VEVENT
END:VCALENDAR