BEGIN:VCALENDAR
VERSION:2.0
PRODID:-//International Furnishings and Design Association - ECPv5.1.0//NONSGML v1.0//EN
CALSCALE:GREGORIAN
METHOD:PUBLISH
X-WR-CALNAME:International Furnishings and Design Association
X-ORIGINAL-URL:https://ifda.com
X-WR-CALDESC:Events for International Furnishings and Design Association
BEGIN:VTIMEZONE
TZID:America/Halifax
BEGIN:DAYLIGHT
TZOFFSETFROM:-0400
TZOFFSETTO:-0300
TZNAME:ADT
DTSTART:20210314T060000
END:DAYLIGHT
BEGIN:STANDARD
TZOFFSETFROM:-0300
TZOFFSETTO:-0400
TZNAME:AST
DTSTART:20211107T050000
END:STANDARD
END:VTIMEZONE
BEGIN:VEVENT
DTSTART;TZID=America/Halifax:20210701T183000
DTEND;TZID=America/Halifax:20210701T210000
DTSTAMP:20260419T224703
CREATED:20210621T013536Z
LAST-MODIFIED:20210621T013536Z
UID:11692-1625164200-1625173200@ifda.com
SUMMARY:IFDA Richmond Baseball Night
DESCRIPTION:Please join us for our July 2021 Design Chat Social. This months Design Chat will be a networking event at The Diamond! A suite at the Flying Squirrels Game including food and drinks will be provided thanks to Tech Painting Co. Space is limited – IFDA members and guests only. We hope to see you there! \n
URL:https://ifda.com/event/ifda-richmond-baseball-night/
LOCATION:The Diamond\, 3001 North Arthur Ashe Boulevard\, Richmond\, VA\, 23220\, United States
ORGANIZER;CN="IFDA%20Richmond":MAILTO:rparrish@wellbornwright.com
END:VEVENT
END:VCALENDAR