BEGIN:VCALENDAR
VERSION:2.0
PRODID:-//International Furnishings and Design Association - ECPv5.1.0//NONSGML v1.0//EN
CALSCALE:GREGORIAN
METHOD:PUBLISH
X-WR-CALNAME:International Furnishings and Design Association
X-ORIGINAL-URL:https://ifda.com
X-WR-CALDESC:Events for International Furnishings and Design Association
BEGIN:VTIMEZONE
TZID:America/Halifax
BEGIN:DAYLIGHT
TZOFFSETFROM:-0400
TZOFFSETTO:-0300
TZNAME:ADT
DTSTART:20210314T060000
END:DAYLIGHT
BEGIN:STANDARD
TZOFFSETFROM:-0300
TZOFFSETTO:-0400
TZNAME:AST
DTSTART:20211107T050000
END:STANDARD
END:VTIMEZONE
BEGIN:VEVENT
DTSTART;TZID=America/Halifax:20210506T180000
DTEND;TZID=America/Halifax:20210506T200000
DTSTAMP:20260423T022646
CREATED:20210427T192908Z
LAST-MODIFIED:20210427T192908Z
UID:11502-1620324000-1620331200@ifda.com
SUMMARY:IFDA Richmond Design Chat @ Brambly Park
DESCRIPTION:Please join us for our May 2021 Design Chat Social. \nThis months Design Chat will be a networking event at Brambly Park! Join members of the Richmond Design Community for a fun night of networking. \nBrambly Park is an urban winery and oasis located in the northwest corner of Richmond’s Scott’s Addition neighborhood. We hope to see you there! \nIf you have not registered yet please register below \n
URL:https://ifda.com/event/ifda-richmond-design-chat-brambly-park/
LOCATION:Brambly Park\, 1708 Belleville Street\, Richmond\, VA\, 23230\, United States
ORGANIZER;CN="IFDA%20Richmond":MAILTO:rparrish@wellbornwright.com
END:VEVENT
END:VCALENDAR