BEGIN:VCALENDAR
VERSION:2.0
PRODID:-//International Furnishings and Design Association - ECPv5.1.0//NONSGML v1.0//EN
CALSCALE:GREGORIAN
METHOD:PUBLISH
X-WR-CALNAME:International Furnishings and Design Association
X-ORIGINAL-URL:https://ifda.com
X-WR-CALDESC:Events for International Furnishings and Design Association
BEGIN:VTIMEZONE
TZID:America/Halifax
BEGIN:DAYLIGHT
TZOFFSETFROM:-0400
TZOFFSETTO:-0300
TZNAME:ADT
DTSTART:20220313T060000
END:DAYLIGHT
BEGIN:STANDARD
TZOFFSETFROM:-0300
TZOFFSETTO:-0400
TZNAME:AST
DTSTART:20221106T050000
END:STANDARD
END:VTIMEZONE
BEGIN:VEVENT
DTSTART;TZID=America/Halifax:20220728T170000
DTEND;TZID=America/Halifax:20220728T190000
DTSTAMP:20260424T011953
CREATED:20220718T200840Z
LAST-MODIFIED:20220718T200840Z
UID:13139-1659027600-1659034800@ifda.com
SUMMARY:IFDA Richmond Happy Hour @ Brambly Park
DESCRIPTION:Please join us for a Happy Hour at Brambly Park! \nJoin members of the Richmond Design Community for a fun night of networking and collaborating! Thursday\, July 28th from 5PM – 7PM at Brambly Park located in Scott’s Addition! \n \n
URL:https://ifda.com/event/ifda-richmond-happy-hour-brambly-park/
LOCATION:Brambly Park\, 1708 Belleville Street\, Richmond\, VA\, 23230\, United States
ORGANIZER;CN="IFDA%20Richmond":MAILTO:rparrish@wellbornwright.com
END:VEVENT
END:VCALENDAR