BEGIN:VCALENDAR
VERSION:2.0
PRODID:-//International Furnishings and Design Association - ECPv5.1.0//NONSGML v1.0//EN
CALSCALE:GREGORIAN
METHOD:PUBLISH
X-WR-CALNAME:International Furnishings and Design Association
X-ORIGINAL-URL:https://ifda.com
X-WR-CALDESC:Events for International Furnishings and Design Association
BEGIN:VTIMEZONE
TZID:America/Halifax
BEGIN:DAYLIGHT
TZOFFSETFROM:-0400
TZOFFSETTO:-0300
TZNAME:ADT
DTSTART:20210314T060000
END:DAYLIGHT
BEGIN:STANDARD
TZOFFSETFROM:-0300
TZOFFSETTO:-0400
TZNAME:AST
DTSTART:20211107T050000
END:STANDARD
END:VTIMEZONE
BEGIN:VEVENT
DTSTART;TZID=America/Halifax:20210422T160000
DTEND;TZID=America/Halifax:20210422T170000
DTSTAMP:20260423T092530
CREATED:20210414T194836Z
LAST-MODIFIED:20210414T194836Z
UID:11458-1619107200-1619110800@ifda.com
SUMMARY:IFDA Richmond Manners Matter
DESCRIPTION:Please join us for our April 2021 Educational Event Manners Matter Business Etiquette lead by Liz Bryant!  \nIn this session\, we’ll demonstrate how you can employ the basics of etiquette and civility to “surprise and delight” in establishing\, building\, and maintaining these all-important external and internal business relationships. \n
URL:https://ifda.com/event/ifda-richmond-manners-matter/
LOCATION:Online Event via Zoom
ORGANIZER;CN="IFDA%20Richmond":MAILTO:rparrish@wellbornwright.com
END:VEVENT
END:VCALENDAR