BEGIN:VCALENDAR
VERSION:2.0
PRODID:-//International Furnishings and Design Association - ECPv5.1.0//NONSGML v1.0//EN
CALSCALE:GREGORIAN
METHOD:PUBLISH
X-WR-CALNAME:International Furnishings and Design Association
X-ORIGINAL-URL:https://ifda.com
X-WR-CALDESC:Events for International Furnishings and Design Association
BEGIN:VTIMEZONE
TZID:America/Halifax
BEGIN:DAYLIGHT
TZOFFSETFROM:-0400
TZOFFSETTO:-0300
TZNAME:ADT
DTSTART:20210314T060000
END:DAYLIGHT
BEGIN:STANDARD
TZOFFSETFROM:-0300
TZOFFSETTO:-0400
TZNAME:AST
DTSTART:20211107T050000
END:STANDARD
END:VTIMEZONE
BEGIN:VEVENT
DTSTART;TZID=America/Halifax:20210520T090000
DTEND;TZID=America/Halifax:20210520T103000
DTSTAMP:20260422T183131
CREATED:20210512T004252Z
LAST-MODIFIED:20210512T004252Z
UID:11584-1621501200-1621506600@ifda.com
SUMMARY:IFDA Richmond Supply Chain Solutions
DESCRIPTION:Please join us for our May 2021 Educational Event on Supply Chain Solutions In this in person event hosted by Tech Painting Co. you will hear from our panel on issues the industry is facing on Supply Chain Delays. The panel includes Jennifer Stoner\, Jay Calabro & Casey Fabling. Diane Williams will lead the discussion centered around solutions. \n
URL:https://ifda.com/event/ifda-richmond-supply-chain-solutions/
LOCATION:Tech Painting Co.\, 3104 West Leigh Street\, Richmond\, VA\, 23230\, United States
ORGANIZER;CN="IFDA%20Richmond":MAILTO:rparrish@wellbornwright.com
END:VEVENT
END:VCALENDAR