BEGIN:VCALENDAR
VERSION:2.0
PRODID:-//International Furnishings and Design Association - ECPv5.1.0//NONSGML v1.0//EN
CALSCALE:GREGORIAN
METHOD:PUBLISH
X-WR-CALNAME:International Furnishings and Design Association
X-ORIGINAL-URL:https://ifda.com
X-WR-CALDESC:Events for International Furnishings and Design Association
BEGIN:VTIMEZONE
TZID:America/New_York
BEGIN:DAYLIGHT
TZOFFSETFROM:-0500
TZOFFSETTO:-0400
TZNAME:EDT
DTSTART:20190310T070000
END:DAYLIGHT
BEGIN:STANDARD
TZOFFSETFROM:-0400
TZOFFSETTO:-0500
TZNAME:EST
DTSTART:20191103T060000
END:STANDARD
END:VTIMEZONE
BEGIN:VEVENT
DTSTART;TZID=America/New_York:20191112T173000
DTEND;TZID=America/New_York:20191112T190000
DTSTAMP:20260423T071503
CREATED:20190715T190446Z
LAST-MODIFIED:20190805T211011Z
UID:8469-1573579800-1573585200@ifda.com
SUMMARY:IFDANY Board of Directors Meeting
DESCRIPTION:
URL:https://ifda.com/event/ifdany-board-of-directors-meeting-4/
LOCATION:NY Design Center\, 200 Lexington Avenue\, New York\, NY\, 10016\, United States
END:VEVENT
END:VCALENDAR