BEGIN:VCALENDAR
VERSION:2.0
PRODID:-//International Furnishings and Design Association - ECPv5.1.0//NONSGML v1.0//EN
CALSCALE:GREGORIAN
METHOD:PUBLISH
X-WR-CALNAME:International Furnishings and Design Association
X-ORIGINAL-URL:https://ifda.com
X-WR-CALDESC:Events for International Furnishings and Design Association
BEGIN:VTIMEZONE
TZID:America/New_York
BEGIN:DAYLIGHT
TZOFFSETFROM:-0500
TZOFFSETTO:-0400
TZNAME:EDT
DTSTART:20190310T070000
END:DAYLIGHT
BEGIN:STANDARD
TZOFFSETFROM:-0400
TZOFFSETTO:-0500
TZNAME:EST
DTSTART:20191103T060000
END:STANDARD
END:VTIMEZONE
BEGIN:VEVENT
DTSTART;TZID=America/New_York:20190813T173000
DTEND;TZID=America/New_York:20190813T190000
DTSTAMP:20260422T012640
CREATED:20190715T181917Z
LAST-MODIFIED:20190716T143604Z
UID:8459-1565717400-1565722800@ifda.com
SUMMARY:IFDANY Board of Directors Meeting
DESCRIPTION:
URL:https://ifda.com/event/ifdany-board-of-directors-meeting/
LOCATION:NY Design Center\, 200 Lexington Avenue\, New York\, NY\, 10016\, United States
ORGANIZER;CN="IFDA-NY":MAILTO:ifdanyny@verizon.net
END:VEVENT
END:VCALENDAR