BEGIN:VCALENDAR
VERSION:2.0
PRODID:-//International Furnishings and Design Association - ECPv5.1.0//NONSGML v1.0//EN
CALSCALE:GREGORIAN
METHOD:PUBLISH
X-WR-CALNAME:International Furnishings and Design Association
X-ORIGINAL-URL:https://ifda.com
X-WR-CALDESC:Events for International Furnishings and Design Association
BEGIN:VTIMEZONE
TZID:America/Halifax
BEGIN:DAYLIGHT
TZOFFSETFROM:-0400
TZOFFSETTO:-0300
TZNAME:ADT
DTSTART:20200308T060000
END:DAYLIGHT
BEGIN:STANDARD
TZOFFSETFROM:-0300
TZOFFSETTO:-0400
TZNAME:AST
DTSTART:20201101T050000
END:STANDARD
END:VTIMEZONE
BEGIN:VEVENT
DTSTART;TZID=America/Halifax:20200106T173000
DTEND;TZID=America/Halifax:20200106T193000
DTSTAMP:20260423T144457
CREATED:20191227T205425Z
LAST-MODIFIED:20191227T205825Z
UID:8982-1578331800-1578339000@ifda.com
SUMMARY:IFDANY C3- 14 Stories Above Times Square at PHD TERRACE\, DREAM HOTEL
DESCRIPTION:Get 2020 Off to a Sparkling Start!\nJoin IFDA New York\nMonday\, January 6th\, 2020\nfor\nCOCKTAILS\, CONVERSATIONS & CONNECTIONS\n\n14 Stories Above Times Square\non the PHD TERRACE\, DREAM HOTEL\n\n210 West 55th Street\n5:30 pm – 7:30 pm\n\nCLICK HERE TO REGISTER!\nCASH BAR\nBRING YOUR BUSINESS CARDS\n\nMEET\nNEW DESIGN INDUSTRY COLLEAGUES!\n\n\n
URL:https://ifda.com/event/ifdany-c3-14-stories-above-times-square-at-phd-terrace-dream-hotel/
LOCATION:210 West 55th Street\, NYC\, United States
END:VEVENT
END:VCALENDAR