BEGIN:VCALENDAR
VERSION:2.0
PRODID:-//International Furnishings and Design Association - ECPv5.1.0//NONSGML v1.0//EN
CALSCALE:GREGORIAN
METHOD:PUBLISH
X-WR-CALNAME:International Furnishings and Design Association
X-ORIGINAL-URL:https://ifda.com
X-WR-CALDESC:Events for International Furnishings and Design Association
BEGIN:VTIMEZONE
TZID:America/Halifax
BEGIN:DAYLIGHT
TZOFFSETFROM:-0400
TZOFFSETTO:-0300
TZNAME:ADT
DTSTART:20190310T060000
END:DAYLIGHT
BEGIN:STANDARD
TZOFFSETFROM:-0300
TZOFFSETTO:-0400
TZNAME:AST
DTSTART:20191103T050000
END:STANDARD
END:VTIMEZONE
BEGIN:VEVENT
DTSTART;TZID=America/Halifax:20191104T173000
DTEND;TZID=America/Halifax:20191104T193000
DTSTAMP:20260423T042558
CREATED:20191023T135506Z
LAST-MODIFIED:20191023T135506Z
UID:8931-1572888600-1572895800@ifda.com
SUMMARY:IFDANY C3 at Good Behavior in the Made Hotel
DESCRIPTION:IFDA NEW YORK\n \n\nWants you  \nto\nJoin Us For\n\n\n   \nCOCKTAILS\, CONVERSATIONS & CONNECTIONS \nMonday\,  Nov 4th\n5:30 PM – 7:30 PM  \n \nat\nGood Behavior\nin the Made Hotel\n \n good behavior is optional . . .\n 44 West 29th Street\n \n \n\n\n\n\n\nClick Here to Register\n\n\n\n\nCash Bar\n\n Bring Your Business cards\n \n\n
URL:https://ifda.com/event/ifdany-c3-at-good-behavior-in-the-made-hotel/
END:VEVENT
END:VCALENDAR