BEGIN:VCALENDAR
VERSION:2.0
PRODID:-//International Furnishings and Design Association - ECPv5.1.0//NONSGML v1.0//EN
CALSCALE:GREGORIAN
METHOD:PUBLISH
X-WR-CALNAME:International Furnishings and Design Association
X-ORIGINAL-URL:https://ifda.com
X-WR-CALDESC:Events for International Furnishings and Design Association
BEGIN:VTIMEZONE
TZID:America/Halifax
BEGIN:DAYLIGHT
TZOFFSETFROM:-0400
TZOFFSETTO:-0300
TZNAME:ADT
DTSTART:20200308T060000
END:DAYLIGHT
BEGIN:STANDARD
TZOFFSETFROM:-0300
TZOFFSETTO:-0400
TZNAME:AST
DTSTART:20201101T050000
END:STANDARD
END:VTIMEZONE
BEGIN:VEVENT
DTSTART;TZID=America/Halifax:20200302T173000
DTEND;TZID=America/Halifax:20200302T193000
DTSTAMP:20260424T064218
CREATED:20200302T210744Z
LAST-MODIFIED:20200302T211356Z
UID:9284-1583170200-1583177400@ifda.com
SUMMARY:IFDANY C3- The Monarch Rooftop  
DESCRIPTION:\n\n\n\n\n\n\n\n\n\n\n\n\n\n\n\n\n\n\n\n\n\n\n\nMonday\, March 2nd\n5:30 pm – 7:30 pm\n\nIFDA NEW YORK\n\nInvites You \n\n\nTO COME FOR THE FUN\n AND INTERMINGLING\n\n\n\n\nCOCKTAILS\, CONVERSATION & CONNECTIONS\n \nThe Monarch Rooftop\n  \nMonday\, March 2nd\n5:30 pm – 7:30 pm\n\n\nat The Courtyard by Marriott\nHerald Square\n71 W 35th St \n\n\n\n\n\nCLICK HERE TO REGISTER!  \n \n \n\nCASH BAR\nBRING YOUR BUSINESS CARDS\n\nMEET\nNEW DESIGN INDUSTRY COLLEAGUES!\n\n\n\n\n\n\n\n\n\n\n\n\n\n\n\n
URL:https://ifda.com/event/ifdany-c3-the-monarch-rooftop/
LOCATION:Mariott Courtyard at Herald Square\, 71 W 35th St\, NY\, NY
END:VEVENT
END:VCALENDAR