BEGIN:VCALENDAR
VERSION:2.0
PRODID:-//International Furnishings and Design Association - ECPv5.1.0//NONSGML v1.0//EN
CALSCALE:GREGORIAN
METHOD:PUBLISH
X-WR-CALNAME:International Furnishings and Design Association
X-ORIGINAL-URL:https://ifda.com
X-WR-CALDESC:Events for International Furnishings and Design Association
BEGIN:VTIMEZONE
TZID:America/Halifax
BEGIN:DAYLIGHT
TZOFFSETFROM:-0400
TZOFFSETTO:-0300
TZNAME:ADT
DTSTART:20200308T060000
END:DAYLIGHT
BEGIN:STANDARD
TZOFFSETFROM:-0300
TZOFFSETTO:-0400
TZNAME:AST
DTSTART:20201101T050000
END:STANDARD
END:VTIMEZONE
BEGIN:VEVENT
DTSTART;VALUE=DATE:20200305
DTEND;VALUE=DATE:20200306
DTSTAMP:20260424T080924
CREATED:20200115T045850Z
LAST-MODIFIED:20200322T174149Z
UID:9096-1583366400-1583452799@ifda.com
SUMMARY:IFDANY  IFDA Japan Visits NYCxDesign Week!
DESCRIPTION:Colleagues from IFDA Japan will be visiting NYC during the whirlwind May design festival in New York- NYCxDesign.  They will attend ICFF and many of the other activities going on in the area.  Other chapters and members are encouraged to come to New York too and meet their friends from Japan.  Please let the IFDANY office ( ifdanyny@verizon.net) know if you will be in town so we can send you the itinerary of special events that may develop\, or if you would like to help plan some international meet-ups or events. \nWatch for more details here. \n
URL:https://ifda.com/event/ifdany-ifda-japan-visits-nycxdesign-week/
LOCATION:New York City\, NY\, United States
END:VEVENT
END:VCALENDAR