BEGIN:VCALENDAR
VERSION:2.0
PRODID:-//International Furnishings and Design Association - ECPv5.1.0//NONSGML v1.0//EN
CALSCALE:GREGORIAN
METHOD:PUBLISH
X-WR-CALNAME:International Furnishings and Design Association
X-ORIGINAL-URL:https://ifda.com
X-WR-CALDESC:Events for International Furnishings and Design Association
BEGIN:VTIMEZONE
TZID:America/Halifax
BEGIN:DAYLIGHT
TZOFFSETFROM:-0400
TZOFFSETTO:-0300
TZNAME:ADT
DTSTART:20190310T060000
END:DAYLIGHT
BEGIN:STANDARD
TZOFFSETFROM:-0300
TZOFFSETTO:-0400
TZNAME:AST
DTSTART:20191103T050000
END:STANDARD
END:VTIMEZONE
BEGIN:VEVENT
DTSTART;TZID=America/Halifax:20191121T173000
DTEND;TZID=America/Halifax:20191121T193000
DTSTAMP:20260423T091301
CREATED:20191028T140544Z
LAST-MODIFIED:20191028T140544Z
UID:8936-1574357400-1574364600@ifda.com
SUMMARY:IFDANY Rising Stars of Design 2019
DESCRIPTION:\nIFDA Rising Stars of Design 2019\nThursday\, November 21st\, 2019\n5:30 PM\nHosted by Past IFDA Rising Star Brad Ford\nat his NYDC showroom\nFair\n200 Lexington Ave\, 16th Floor\n  \n Master of Ceremonies: Amy Lau\n\n \n\n\nFounded in 2001\, Amy Lau Design creates interiors known for their warmth\, expressiveness and impeccable attention to detail. Amy has a reverence for the inherent beauty of natural materials\,\n\nlandscapes\, and thoughtfully incorporates elements of each into every project. Lauded by Architectural Digest for her\n\n“All-encompassing vision of inspired\, artful living that elevates mere finesse into the realm of pure magic\,” Amy’s aesthetic embraces both art and design\, where each personalized space is enlivened with dynamic mixes of vintage and contemporary pieces and site-specific commissions.\n\n\n\nThe Honorees:\nInterior Design \n\n\n\n\n\n\nPatrick Ryan: Patrick Ryan’s Office\nAfter working for several years as a psychotherapist\, Patrick chose to pursue his life-long passion for art and design. As a result of his experience as a therapist\, he understands first- hand that one of the most important activities in any successful design project is listening closely to the client.  The synthesis of his backgrounds influences all of his work\, whether he is creating custom furniture or working with a client to achieve an ideal interior environment tailored to their own refined aesthetic.\n\n\n\n\n\n\n\n\n\n\n\nTina Ramchandani:\n\nTina Ramchandani Creative\n\nTina’s signature style\,\nSoulful Minimalism incorporates her global perspective and her infatuation for amazingly crafted\, custom elements. Tina believes great design lets us live the life that inspires us every day. Her designs warm modern interiors and fully capture her clients’ polished lifestyles. She creates thoughtful spaces and enhances them with the things that matter most to her clients so they’re able to focus on the people that matter. Her signature style brings her love for beauty and obsession with design to each of the homes she creates.\n\n\nProduct Design\n\n\n\n\n\n\n\nJ.M. Szymanski\n\nJ.M. Szymanski introduces radical new shapes and explores new materials and textures. Each work demonstrates a fascination with severe geometries\, raw materials\, and unique forms. Jake designs and fabricates his work at his Bronx studio. His design education began in his early childhood where he and his family spent several years living in Nepal. Later\, in his early 20’s\, he moved to Spain where he studied the designs of Gaudi\, visited the Alhambra and made frequent trips to Morocco. He returned to the USA to study interior design at The Fashion Institute of Technology and at The School of Visual Arts in New York City.\n\n\n\n\n\n\n\n\nTamara Stephenson & Susan Young\nroot cellars design\nSusan Young and Tamara Stephenson are long-time friends with backgrounds in interior design\, fashion and fine art\, who came together to work on residential interior design projects. In 2015 they launched root cellars designs where they create and manufacture quality home textiles\, wallpaper and accessories. Channeling the artistry of women hundreds of years ago\, the duo utilizes Tamara’s astute design eye\, sense of color and demands for quality with Susan’s expertise in manufacturing\, artistry and attention to detail. Committed to Made in the USA\, this proudly woman-owned company collaborates with workrooms in the NYC garment district when creating ready-made products.\n\n\n\n\n\n\nHosted by Past IFDA Rising Star Brad Ford\nat his NYDC showroom\nFair\n200 Lexington Ave\, 16th Floor\n\nThursday\, November 21st\, 2019\n5:30 PM\n\n\nGuests: $40.00\nIFDA Members: $20.00\nStudents with ID: Free!\n\n\nClick Here to Register\n\n\n\n\n\nTickets are non Refundable\n#IFDARisingStars\n
URL:https://ifda.com/event/ifdany-rising-stars-of-design-2019/
LOCATION:NYDC\, 200 Lexington Ave\, NY\, NY\, 10016\, United States
END:VEVENT
END:VCALENDAR