BEGIN:VCALENDAR
VERSION:2.0
PRODID:-//International Furnishings and Design Association - ECPv5.1.0//NONSGML v1.0//EN
CALSCALE:GREGORIAN
METHOD:PUBLISH
X-WR-CALNAME:International Furnishings and Design Association
X-ORIGINAL-URL:https://ifda.com
X-WR-CALDESC:Events for International Furnishings and Design Association
BEGIN:VTIMEZONE
TZID:America/New_York
BEGIN:DAYLIGHT
TZOFFSETFROM:-0500
TZOFFSETTO:-0400
TZNAME:EDT
DTSTART:20190310T070000
END:DAYLIGHT
BEGIN:STANDARD
TZOFFSETFROM:-0400
TZOFFSETTO:-0500
TZNAME:EST
DTSTART:20191103T060000
END:STANDARD
END:VTIMEZONE
BEGIN:VEVENT
DTSTART;TZID=America/New_York:20191107T160000
DTEND;TZID=America/New_York:20191107T180000
DTSTAMP:20260423T055518
CREATED:20191015T024707Z
LAST-MODIFIED:20191015T024707Z
UID:8926-1573142400-1573149600@ifda.com
SUMMARY:IFDANY Toast & Guided Tour of the Kravet Archive Exhibit
DESCRIPTION: Pattern and Process: Selections from Kravet Archive \nToast & Guided Tour of the Kravet Archive Exhibit at the New York School of Interior Design \nThursday\, November 7 at the New York School of Interior Design \n \n  \n\n\n\nIFDA Members Free!\n\n\nNon Members Guest $20.00 \n Meet in the Gallery for Drinks and Appetizers. \n\n\n\n\nClick Here to Register\nLimited Space available\nPlease RSVP Quickly\nThanks you to our GOLD Sponsor\n  \nfor leading the tour.\n\n\n\n\n\n \n\nTickets are non Refundable\n  \n
URL:https://ifda.com/event/ifdany-toast-guided-tour-of-the-kravet-archive-exhibit/
LOCATION:NY School of Interior Design\, 170 East 70th Street\, New York City\, New York\, United States
END:VEVENT
END:VCALENDAR