BEGIN:VCALENDAR
VERSION:2.0
PRODID:-//International Furnishings and Design Association - ECPv5.1.0//NONSGML v1.0//EN
CALSCALE:GREGORIAN
METHOD:PUBLISH
X-WR-CALNAME:International Furnishings and Design Association
X-ORIGINAL-URL:https://ifda.com
X-WR-CALDESC:Events for International Furnishings and Design Association
BEGIN:VTIMEZONE
TZID:America/Halifax
BEGIN:DAYLIGHT
TZOFFSETFROM:-0400
TZOFFSETTO:-0300
TZNAME:ADT
DTSTART:20190310T060000
END:DAYLIGHT
BEGIN:STANDARD
TZOFFSETFROM:-0300
TZOFFSETTO:-0400
TZNAME:AST
DTSTART:20191103T050000
END:STANDARD
END:VTIMEZONE
BEGIN:VEVENT
DTSTART;TZID=America/Halifax:20190828T100000
DTEND;TZID=America/Halifax:20190828T233000
DTSTAMP:20260422T035000
CREATED:20190803T192242Z
LAST-MODIFIED:20190803T192242Z
UID:8637-1566986400-1567035000@ifda.com
SUMMARY:Kravet Workspace Tour
DESCRIPTION: \nNew Showroom Concept  \n  Suite 210   \nNew York Design Center \n \n\n \nWednesday\, August 28th\n10:00 AM\n\nA Continental Breakfast will be served.  \n\n\n\nClick Here to Reserve your Spot on the Tour     \n\n\nPlease RSVP by August 21st\n\n\n\n\n\nThanks you to our IFDA NY Gold Sponsor Kravet for hosting this event\n\n\nTickets are non Refundable\n \n \n\n
URL:https://ifda.com/event/kravet-workspace-tour/
LOCATION:NYDC\, 200 Lexington Ave\, NY\, NY\, 10016\, United States
END:VEVENT
END:VCALENDAR