BEGIN:VCALENDAR
VERSION:2.0
PRODID:-//International Furnishings and Design Association - ECPv5.1.0//NONSGML v1.0//EN
CALSCALE:GREGORIAN
METHOD:PUBLISH
X-WR-CALNAME:International Furnishings and Design Association
X-ORIGINAL-URL:https://ifda.com
X-WR-CALDESC:Events for International Furnishings and Design Association
BEGIN:VTIMEZONE
TZID:Asia/Tokyo
BEGIN:STANDARD
TZOFFSETFROM:+0900
TZOFFSETTO:+0900
TZNAME:JST
DTSTART:20170101T000000
END:STANDARD
END:VTIMEZONE
BEGIN:VEVENT
DTSTART;TZID=Asia/Tokyo:20171005T000000
DTEND;TZID=Asia/Tokyo:20171012T000000
DTSTAMP:20260421T001521
CREATED:20190818T094538Z
LAST-MODIFIED:20190818T094548Z
UID:8691-1507161600-1507766400@ifda.com
SUMMARY:Official Japan Tour of the US
DESCRIPTION:10 US IFDA members made a Japan tour from Oct. 5 – 12 in 2017. \n \n \n
URL:https://ifda.com/event/official-japan-tour-of-the-us/
LOCATION:Japan
END:VEVENT
END:VCALENDAR