BEGIN:VCALENDAR
VERSION:2.0
PRODID:-//International Furnishings and Design Association - ECPv5.1.0//NONSGML v1.0//EN
CALSCALE:GREGORIAN
METHOD:PUBLISH
X-WR-CALNAME:International Furnishings and Design Association
X-ORIGINAL-URL:https://ifda.com
X-WR-CALDESC:Events for International Furnishings and Design Association
BEGIN:VTIMEZONE
TZID:America/New_York
BEGIN:DAYLIGHT
TZOFFSETFROM:-0500
TZOFFSETTO:-0400
TZNAME:EDT
DTSTART:20190310T070000
END:DAYLIGHT
BEGIN:STANDARD
TZOFFSETFROM:-0400
TZOFFSETTO:-0500
TZNAME:EST
DTSTART:20191103T060000
END:STANDARD
END:VTIMEZONE
BEGIN:VEVENT
DTSTART;TZID=America/New_York:20190810T000000
DTEND;TZID=America/New_York:20190814T235900
DTSTAMP:20260421T222547
CREATED:20190809T180929Z
LAST-MODIFIED:20190809T211337Z
UID:8662-1565395200-1565827140@ifda.com
SUMMARY:Out and About at NY NOW
DESCRIPTION: \nOut and About at NY NOW\nJoin Us Aug 10-14th\, 2019\nJacob K. Javits Convention Center\, NYC\n\nVisit all the IFDA Selects “Best in Show” winners   \nTheir booths will be identified by IFDA Selects framed award certificates\nafter 2:00 PM from Sunday\, Aug 11th\, 2019\nthrough the duration of the show. \n\nThe “IFDA Selects” initiative supports and promotes the design industry\, highlighting new and innovative products debuting at New York City trade shows.\n\n\n\n\nMake sure you Register for your Trade Show Badge HERE\nUse code IFDASUMMER2019\n \n\nHoliday House Founder\, Iris Dankner\, an IFDA Circle of Excellence Humanitarian Honoree and our reception Hostess Allison Eden\nwill both be on a panel at 3:00 PM\, Sunday\, Aug 11th\, to discuss\nWhat’s New In Interior Design.\n\n\nPlease join us right after at The ‘Garden of Allison Eden’  \nin the Holiday House booth (Booth #2446)\,  \nfor the IFDA Happy Hour at 4:00 -6:00 PM\nSunday\, Aug 11th\, 2019\nClick Here to register for Happy Hour!  \n\n\nDon’t forget to join  IFDA as we present our semi-annual COLOR talk at NY NOW.\nThis summer we have Cindy Seepersau from Sherwin Williams’ for\nSTIR It Up with Sherwin Williams: From Theory to Selection\nMonday\, August 12\, 2019  \n8:30 AM  NOTE ROOM CHANGE: Room 1A-03\nClick Here to Register for COLOR\n\n\n\n\nAbout NY NOW\, an IFDA NY Silver Sponsor\nThe summer 2019 edition of NY NOW®\, the Market for Home\, Lifestyle\, Handmade + Gift\, will take place Aug 10-14th\, 2019 at New York City’s Jacob K. Javits Convention Center. NY NOW features three comprehensive collections – HOME\, LIFESTYLE and HANDMADE – that encompass tens of thousands of products in hundreds of product categories. For the first time\, NY NOW welcomes the co-locations of the winter market with the National Stationery Show® and SURTEX®\, which will take place during the same time\, all under one roof and in the same location. Attendees from all 50 states and nearly 70 countries worldwide are expected.\n\nNY NOW is owned by Emerald Expositions\, a leading operator of business-to-business trade shows in the United States. The company currently operates more than 55 trade shows\, as well as numerous other face-to-face events. In 2017\, Emerald’s events connected over 500\,000 global attendees and exhibitors and occupied more than 6.9 million NSF of exhibition space.\nMore information about NY NOW can be found at https://www.nynow.com/\n\n\n
URL:https://ifda.com/event/out-and-about-at-ny-now/
LOCATION:Javits Convention Center\, 36th St and 11th Ave\, New York\, New York\, United States
ORGANIZER;CN="IFDA-NY":MAILTO:ifdanyny@verizon.net
END:VEVENT
END:VCALENDAR