BEGIN:VCALENDAR
VERSION:2.0
PRODID:-//International Furnishings and Design Association - ECPv5.1.0//NONSGML v1.0//EN
CALSCALE:GREGORIAN
METHOD:PUBLISH
X-WR-CALNAME:International Furnishings and Design Association
X-ORIGINAL-URL:https://ifda.com
X-WR-CALDESC:Events for International Furnishings and Design Association
BEGIN:VTIMEZONE
TZID:America/Halifax
BEGIN:DAYLIGHT
TZOFFSETFROM:-0400
TZOFFSETTO:-0300
TZNAME:ADT
DTSTART:20200308T060000
END:DAYLIGHT
BEGIN:STANDARD
TZOFFSETFROM:-0300
TZOFFSETTO:-0400
TZNAME:AST
DTSTART:20201101T050000
END:STANDARD
END:VTIMEZONE
BEGIN:VEVENT
DTSTART;TZID=America/Halifax:20200127T120000
DTEND;TZID=America/Halifax:20200127T130000
DTSTAMP:20260423T214018
CREATED:20200115T200613Z
LAST-MODIFIED:20200115T200613Z
UID:9110-1580126400-1580130000@ifda.com
SUMMARY:Protecting Your Intellectual Property:  What Every Creative Should Know
DESCRIPTION:Presented by Jack Hicks\, Partner\, Womble\, Bond\, Dickinson \nJack Hicks has years of proven experience as an international furniture design attorney. He has helped guide home furnishing and design companies through all stages of the intellectual property process. Finding the line between lawful inspiration and prohibited copying can be a complex undertaking but Jack helps clients navigate through these gray areas. He has obtained\, litigation and invalidated patents\, trademarks (including trade dress) and copyrights on literally hundreds of furniture-related designs. Jack’s background before law school includes two degrees in mechanical engineering and work experience as a design engineer in the aerospace industry. He is a frequent author and speaker on furniture- and design-related patent issues\, having made numerous presentations at the Patent and Trademark Offices throughout the world. Jack’s honors and awards include being ranked among the leading lawyers in his field by The Best Lawyers in America\, North Carolina Super Lawyers and North Carolina Legal Elite. \n
URL:https://ifda.com/event/protecting-your-intellectual-property-what-every-creative-should-know/
LOCATION:Steelyard Designer Lounge\, Building C\, Floor 5\, Space C582\, Las Vegas\, NV\, United States
END:VEVENT
END:VCALENDAR