BEGIN:VCALENDAR
VERSION:2.0
PRODID:-//International Furnishings and Design Association - ECPv5.1.0//NONSGML v1.0//EN
CALSCALE:GREGORIAN
METHOD:PUBLISH
X-WR-CALNAME:International Furnishings and Design Association
X-ORIGINAL-URL:https://ifda.com
X-WR-CALDESC:Events for International Furnishings and Design Association
BEGIN:VTIMEZONE
TZID:America/New_York
BEGIN:DAYLIGHT
TZOFFSETFROM:-0500
TZOFFSETTO:-0400
TZNAME:EDT
DTSTART:20190310T070000
END:DAYLIGHT
BEGIN:STANDARD
TZOFFSETFROM:-0400
TZOFFSETTO:-0500
TZNAME:EST
DTSTART:20191103T060000
END:STANDARD
END:VTIMEZONE
BEGIN:VEVENT
DTSTART;TZID=America/New_York:20190812T083000
DTEND;TZID=America/New_York:20190812T100000
DTSTAMP:20260421T235642
CREATED:20190715T175035Z
LAST-MODIFIED:20190809T182139Z
UID:8438-1565598600-1565604000@ifda.com
SUMMARY:STIR IT Up at NY NOW
DESCRIPTION:STIR it up with Sherwin Williams \nFrom Theory to Selection\n\n\n\n\nJoin the IFDA as we present our semi-annual COLOR talk at NY NOW.  This summer we are thrilled to have\n\n \nCindy Seepersaud \n\n\n\nSherwin Williams’ Designer Account Executive for the Metro NY area\,\n\nas she STIRS it Up.\n\nShe will discuss color trends\, unique color palettes & much more.\n\n\n\nWhen:\nAugust 12\, 2019\nCoffee & networking @ 8:30 AM\n\nPresentation from 9 :00 – 10:00 AM\n\nWhere:\nJacob K. Javits Convention Center during NY NOW\nRoom 1A-04\n\n\nAttendance Fees:\nPrior to August 5th\, 2019\nNon-Members: $45.00\nIFDA Members: $25.00\nNon-Member Students: $10.00\n\nStudent Members: NC \n\nAfter August 5th and at the door\nNon-Members: $60.00\nIFDA Members: $40.00\n Non-Member Students: $20.00\nStudent Members: $10.00\n\n\nClick Here to Buy Tickets for the Seminar \n\n\n\n\n\nIFDA Members\, don’t forget to get your badge for NY NOW to see what’s new & next.\n and Use code IFDASummer2019 and Click Here to get your complimentary badge.\n\n\n\n\n\n
URL:https://ifda.com/event/stir-it-up-at-ny-now/
LOCATION:Javits Convention Center\, 36th St and 11th Ave\, New York\, New York\, United States
END:VEVENT
END:VCALENDAR