BEGIN:VCALENDAR
VERSION:2.0
PRODID:-//International Furnishings and Design Association - ECPv5.1.0//NONSGML v1.0//EN
CALSCALE:GREGORIAN
METHOD:PUBLISH
X-WR-CALNAME:International Furnishings and Design Association
X-ORIGINAL-URL:https://ifda.com
X-WR-CALDESC:Events for International Furnishings and Design Association
BEGIN:VTIMEZONE
TZID:America/Halifax
BEGIN:DAYLIGHT
TZOFFSETFROM:-0400
TZOFFSETTO:-0300
TZNAME:ADT
DTSTART:20190310T060000
END:DAYLIGHT
BEGIN:STANDARD
TZOFFSETFROM:-0300
TZOFFSETTO:-0400
TZNAME:AST
DTSTART:20191103T050000
END:STANDARD
END:VTIMEZONE
BEGIN:VEVENT
DTSTART;TZID=America/Halifax:20191201T053000
DTEND;TZID=America/Halifax:20191201T193000
DTSTAMP:20260423T104331
CREATED:20191004T031941Z
LAST-MODIFIED:20191118T180038Z
UID:8916-1575178200-1575228600@ifda.com
SUMMARY:IFDA JAPAN TALK SHOW "FUSION OF KOMINKA AND SCANDINAVIAN MODERN STYLE
DESCRIPTION:Natural Material and Scandinavian Furniture to maximize  ecological beauty of Kominka \n古民家の魅力を引き出す、自然素材と北欧家具 \n \n \n  \n
URL:https://ifda.com/event/talk-show-fusion-of-kominka-and-scandinavian-modern-style/
LOCATION:Hikosen Style shop
END:VEVENT
END:VCALENDAR